BEGIN:VCALENDAR
VERSION:2.0
PRODID:-//Saint Andrews Episcopal Church - State College, PA - ECPv6.15.14//NONSGML v1.0//EN
CALSCALE:GREGORIAN
METHOD:PUBLISH
X-ORIGINAL-URL:https://standrewsc.org
X-WR-CALDESC:Events for Saint Andrews Episcopal Church - State College, PA
REFRESH-INTERVAL;VALUE=DURATION:PT1H
X-Robots-Tag:noindex
X-PUBLISHED-TTL:PT1H
BEGIN:VTIMEZONE
TZID:America/New_York
BEGIN:DAYLIGHT
TZOFFSETFROM:-0500
TZOFFSETTO:-0400
TZNAME:EDT
DTSTART:20270314T070000
END:DAYLIGHT
BEGIN:STANDARD
TZOFFSETFROM:-0400
TZOFFSETTO:-0500
TZNAME:EST
DTSTART:20271107T060000
END:STANDARD
BEGIN:DAYLIGHT
TZOFFSETFROM:-0500
TZOFFSETTO:-0400
TZNAME:EDT
DTSTART:20280312T070000
END:DAYLIGHT
BEGIN:STANDARD
TZOFFSETFROM:-0400
TZOFFSETTO:-0500
TZNAME:EST
DTSTART:20281105T060000
END:STANDARD
BEGIN:DAYLIGHT
TZOFFSETFROM:-0500
TZOFFSETTO:-0400
TZNAME:EDT
DTSTART:20290311T070000
END:DAYLIGHT
BEGIN:STANDARD
TZOFFSETFROM:-0400
TZOFFSETTO:-0500
TZNAME:EST
DTSTART:20291104T060000
END:STANDARD
END:VTIMEZONE
BEGIN:VEVENT
DTSTART;TZID=America/New_York:20280924T080000
DTEND;TZID=America/New_York:20280924T080000
DTSTAMP:20260425T192210
CREATED:20260114T135025Z
LAST-MODIFIED:20260114T135348Z
UID:10005747-1853395200-1853395200@standrewsc.org
SUMMARY:Holy Eucharist\, Rite I
DESCRIPTION:Join us for our usual Rite I Spoken Eucharist\, followed by Continental Breakfast in Room 325.
URL:https://standrewsc.org/event/holy-eucharist-rite-i/2028-09-24/
CATEGORIES:Church
END:VEVENT
BEGIN:VEVENT
DTSTART;TZID=America/New_York:20280924T100000
DTEND;TZID=America/New_York:20280924T100000
DTSTAMP:20260425T192210
CREATED:20260114T135244Z
LAST-MODIFIED:20260114T135258Z
UID:10006008-1853402400-1853402400@standrewsc.org
SUMMARY:Holy Eucharist\, Rite II\, In-person and on Facebook Live
DESCRIPTION:Join us either in-person or on Facebook Live for our principal weekly worship service.
URL:https://standrewsc.org/event/holy-eucharist-rite-ii-in-person-and-on-facebook-live/2028-09-24/
LOCATION:St. Andrew’s Episcopal Church\, 208 West Foster Avenue\, State College\, PA\, 16801\, United States
CATEGORIES:Church
GEO:40.7911417;-77.8601015
X-APPLE-STRUCTURED-LOCATION;VALUE=URI;X-ADDRESS=St. Andrew’s Episcopal Church 208 West Foster Avenue State College PA 16801 United States;X-APPLE-RADIUS=500;X-TITLE=208 West Foster Avenue:geo:-77.8601015,40.7911417
END:VEVENT
BEGIN:VEVENT
DTSTART;TZID=America/New_York:20280924T170000
DTEND;TZID=America/New_York:20280924T180000
DTSTAMP:20260425T192210
CREATED:20260114T134806Z
LAST-MODIFIED:20260114T135320Z
UID:10005486-1853427600-1853431200@standrewsc.org
SUMMARY:Holy Eucharist\, Rite II
DESCRIPTION:Casual worship service with contemporary praise music\, led by our worship band.
URL:https://standrewsc.org/event/holy-eucharist-rite-ii/2028-09-24/
LOCATION:St. Andrew’s Episcopal Church\, 208 West Foster Avenue\, State College\, PA\, 16801\, United States
CATEGORIES:Church
GEO:40.7911417;-77.8601015
X-APPLE-STRUCTURED-LOCATION;VALUE=URI;X-ADDRESS=St. Andrew’s Episcopal Church 208 West Foster Avenue State College PA 16801 United States;X-APPLE-RADIUS=500;X-TITLE=208 West Foster Avenue:geo:-77.8601015,40.7911417
END:VEVENT
BEGIN:VEVENT
DTSTART;TZID=America/New_York:20280928T170000
DTEND;TZID=America/New_York:20280928T190000
DTSTAMP:20260425T192210
CREATED:20260114T134143Z
LAST-MODIFIED:20260114T144817Z
UID:10005226-1853773200-1853780400@standrewsc.org
SUMMARY:Community Cafe
DESCRIPTION:Join us every Thursday for a free meal! \nDonations are accepted\, but never expected.
URL:https://standrewsc.org/event/community-cafe-2/2028-09-28/
CATEGORIES:featured
END:VEVENT
BEGIN:VEVENT
DTSTART;TZID=America/New_York:20281001T080000
DTEND;TZID=America/New_York:20281001T080000
DTSTAMP:20260425T192210
CREATED:20260114T135025Z
LAST-MODIFIED:20260114T135348Z
UID:10005748-1854000000-1854000000@standrewsc.org
SUMMARY:Holy Eucharist\, Rite I
DESCRIPTION:Join us for our usual Rite I Spoken Eucharist\, followed by Continental Breakfast in Room 325.
URL:https://standrewsc.org/event/holy-eucharist-rite-i/2028-10-01/
CATEGORIES:Church
END:VEVENT
BEGIN:VEVENT
DTSTART;TZID=America/New_York:20281001T100000
DTEND;TZID=America/New_York:20281001T100000
DTSTAMP:20260425T192210
CREATED:20260114T135244Z
LAST-MODIFIED:20260114T135258Z
UID:10006009-1854007200-1854007200@standrewsc.org
SUMMARY:Holy Eucharist\, Rite II\, In-person and on Facebook Live
DESCRIPTION:Join us either in-person or on Facebook Live for our principal weekly worship service.
URL:https://standrewsc.org/event/holy-eucharist-rite-ii-in-person-and-on-facebook-live/2028-10-01/
LOCATION:St. Andrew’s Episcopal Church\, 208 West Foster Avenue\, State College\, PA\, 16801\, United States
CATEGORIES:Church
GEO:40.7911417;-77.8601015
X-APPLE-STRUCTURED-LOCATION;VALUE=URI;X-ADDRESS=St. Andrew’s Episcopal Church 208 West Foster Avenue State College PA 16801 United States;X-APPLE-RADIUS=500;X-TITLE=208 West Foster Avenue:geo:-77.8601015,40.7911417
END:VEVENT
BEGIN:VEVENT
DTSTART;TZID=America/New_York:20281001T170000
DTEND;TZID=America/New_York:20281001T180000
DTSTAMP:20260425T192210
CREATED:20260114T134806Z
LAST-MODIFIED:20260114T135320Z
UID:10005487-1854032400-1854036000@standrewsc.org
SUMMARY:Holy Eucharist\, Rite II
DESCRIPTION:Casual worship service with contemporary praise music\, led by our worship band.
URL:https://standrewsc.org/event/holy-eucharist-rite-ii/2028-10-01/
LOCATION:St. Andrew’s Episcopal Church\, 208 West Foster Avenue\, State College\, PA\, 16801\, United States
CATEGORIES:Church
GEO:40.7911417;-77.8601015
X-APPLE-STRUCTURED-LOCATION;VALUE=URI;X-ADDRESS=St. Andrew’s Episcopal Church 208 West Foster Avenue State College PA 16801 United States;X-APPLE-RADIUS=500;X-TITLE=208 West Foster Avenue:geo:-77.8601015,40.7911417
END:VEVENT
BEGIN:VEVENT
DTSTART;TZID=America/New_York:20281005T170000
DTEND;TZID=America/New_York:20281005T190000
DTSTAMP:20260425T192210
CREATED:20260114T134143Z
LAST-MODIFIED:20260114T144817Z
UID:10005227-1854378000-1854385200@standrewsc.org
SUMMARY:Community Cafe
DESCRIPTION:Join us every Thursday for a free meal! \nDonations are accepted\, but never expected.
URL:https://standrewsc.org/event/community-cafe-2/2028-10-05/
CATEGORIES:featured
END:VEVENT
BEGIN:VEVENT
DTSTART;TZID=America/New_York:20281008T080000
DTEND;TZID=America/New_York:20281008T080000
DTSTAMP:20260425T192210
CREATED:20260114T135025Z
LAST-MODIFIED:20260114T135348Z
UID:10005749-1854604800-1854604800@standrewsc.org
SUMMARY:Holy Eucharist\, Rite I
DESCRIPTION:Join us for our usual Rite I Spoken Eucharist\, followed by Continental Breakfast in Room 325.
URL:https://standrewsc.org/event/holy-eucharist-rite-i/2028-10-08/
CATEGORIES:Church
END:VEVENT
BEGIN:VEVENT
DTSTART;TZID=America/New_York:20281008T100000
DTEND;TZID=America/New_York:20281008T100000
DTSTAMP:20260425T192210
CREATED:20260114T135244Z
LAST-MODIFIED:20260114T135258Z
UID:10006010-1854612000-1854612000@standrewsc.org
SUMMARY:Holy Eucharist\, Rite II\, In-person and on Facebook Live
DESCRIPTION:Join us either in-person or on Facebook Live for our principal weekly worship service.
URL:https://standrewsc.org/event/holy-eucharist-rite-ii-in-person-and-on-facebook-live/2028-10-08/
LOCATION:St. Andrew’s Episcopal Church\, 208 West Foster Avenue\, State College\, PA\, 16801\, United States
CATEGORIES:Church
GEO:40.7911417;-77.8601015
X-APPLE-STRUCTURED-LOCATION;VALUE=URI;X-ADDRESS=St. Andrew’s Episcopal Church 208 West Foster Avenue State College PA 16801 United States;X-APPLE-RADIUS=500;X-TITLE=208 West Foster Avenue:geo:-77.8601015,40.7911417
END:VEVENT
BEGIN:VEVENT
DTSTART;TZID=America/New_York:20281008T170000
DTEND;TZID=America/New_York:20281008T180000
DTSTAMP:20260425T192210
CREATED:20260114T134806Z
LAST-MODIFIED:20260114T135320Z
UID:10005488-1854637200-1854640800@standrewsc.org
SUMMARY:Holy Eucharist\, Rite II
DESCRIPTION:Casual worship service with contemporary praise music\, led by our worship band.
URL:https://standrewsc.org/event/holy-eucharist-rite-ii/2028-10-08/
LOCATION:St. Andrew’s Episcopal Church\, 208 West Foster Avenue\, State College\, PA\, 16801\, United States
CATEGORIES:Church
GEO:40.7911417;-77.8601015
X-APPLE-STRUCTURED-LOCATION;VALUE=URI;X-ADDRESS=St. Andrew’s Episcopal Church 208 West Foster Avenue State College PA 16801 United States;X-APPLE-RADIUS=500;X-TITLE=208 West Foster Avenue:geo:-77.8601015,40.7911417
END:VEVENT
BEGIN:VEVENT
DTSTART;TZID=America/New_York:20281012T170000
DTEND;TZID=America/New_York:20281012T190000
DTSTAMP:20260425T192210
CREATED:20260114T134143Z
LAST-MODIFIED:20260114T144817Z
UID:10005228-1854982800-1854990000@standrewsc.org
SUMMARY:Community Cafe
DESCRIPTION:Join us every Thursday for a free meal! \nDonations are accepted\, but never expected.
URL:https://standrewsc.org/event/community-cafe-2/2028-10-12/
CATEGORIES:featured
END:VEVENT
BEGIN:VEVENT
DTSTART;TZID=America/New_York:20281015T080000
DTEND;TZID=America/New_York:20281015T080000
DTSTAMP:20260425T192210
CREATED:20260114T135025Z
LAST-MODIFIED:20260114T135348Z
UID:10005750-1855209600-1855209600@standrewsc.org
SUMMARY:Holy Eucharist\, Rite I
DESCRIPTION:Join us for our usual Rite I Spoken Eucharist\, followed by Continental Breakfast in Room 325.
URL:https://standrewsc.org/event/holy-eucharist-rite-i/2028-10-15/
CATEGORIES:Church
END:VEVENT
BEGIN:VEVENT
DTSTART;TZID=America/New_York:20281015T100000
DTEND;TZID=America/New_York:20281015T100000
DTSTAMP:20260425T192210
CREATED:20260114T135244Z
LAST-MODIFIED:20260114T135258Z
UID:10006011-1855216800-1855216800@standrewsc.org
SUMMARY:Holy Eucharist\, Rite II\, In-person and on Facebook Live
DESCRIPTION:Join us either in-person or on Facebook Live for our principal weekly worship service.
URL:https://standrewsc.org/event/holy-eucharist-rite-ii-in-person-and-on-facebook-live/2028-10-15/
LOCATION:St. Andrew’s Episcopal Church\, 208 West Foster Avenue\, State College\, PA\, 16801\, United States
CATEGORIES:Church
GEO:40.7911417;-77.8601015
X-APPLE-STRUCTURED-LOCATION;VALUE=URI;X-ADDRESS=St. Andrew’s Episcopal Church 208 West Foster Avenue State College PA 16801 United States;X-APPLE-RADIUS=500;X-TITLE=208 West Foster Avenue:geo:-77.8601015,40.7911417
END:VEVENT
BEGIN:VEVENT
DTSTART;TZID=America/New_York:20281015T170000
DTEND;TZID=America/New_York:20281015T180000
DTSTAMP:20260425T192210
CREATED:20260114T134806Z
LAST-MODIFIED:20260114T135320Z
UID:10005489-1855242000-1855245600@standrewsc.org
SUMMARY:Holy Eucharist\, Rite II
DESCRIPTION:Casual worship service with contemporary praise music\, led by our worship band.
URL:https://standrewsc.org/event/holy-eucharist-rite-ii/2028-10-15/
LOCATION:St. Andrew’s Episcopal Church\, 208 West Foster Avenue\, State College\, PA\, 16801\, United States
CATEGORIES:Church
GEO:40.7911417;-77.8601015
X-APPLE-STRUCTURED-LOCATION;VALUE=URI;X-ADDRESS=St. Andrew’s Episcopal Church 208 West Foster Avenue State College PA 16801 United States;X-APPLE-RADIUS=500;X-TITLE=208 West Foster Avenue:geo:-77.8601015,40.7911417
END:VEVENT
BEGIN:VEVENT
DTSTART;TZID=America/New_York:20281019T170000
DTEND;TZID=America/New_York:20281019T190000
DTSTAMP:20260425T192210
CREATED:20260114T134143Z
LAST-MODIFIED:20260114T144817Z
UID:10005229-1855587600-1855594800@standrewsc.org
SUMMARY:Community Cafe
DESCRIPTION:Join us every Thursday for a free meal! \nDonations are accepted\, but never expected.
URL:https://standrewsc.org/event/community-cafe-2/2028-10-19/
CATEGORIES:featured
END:VEVENT
BEGIN:VEVENT
DTSTART;TZID=America/New_York:20281022T080000
DTEND;TZID=America/New_York:20281022T080000
DTSTAMP:20260425T192210
CREATED:20260114T135025Z
LAST-MODIFIED:20260114T135348Z
UID:10005751-1855814400-1855814400@standrewsc.org
SUMMARY:Holy Eucharist\, Rite I
DESCRIPTION:Join us for our usual Rite I Spoken Eucharist\, followed by Continental Breakfast in Room 325.
URL:https://standrewsc.org/event/holy-eucharist-rite-i/2028-10-22/
CATEGORIES:Church
END:VEVENT
BEGIN:VEVENT
DTSTART;TZID=America/New_York:20281022T100000
DTEND;TZID=America/New_York:20281022T100000
DTSTAMP:20260425T192210
CREATED:20260114T135244Z
LAST-MODIFIED:20260114T135258Z
UID:10006012-1855821600-1855821600@standrewsc.org
SUMMARY:Holy Eucharist\, Rite II\, In-person and on Facebook Live
DESCRIPTION:Join us either in-person or on Facebook Live for our principal weekly worship service.
URL:https://standrewsc.org/event/holy-eucharist-rite-ii-in-person-and-on-facebook-live/2028-10-22/
LOCATION:St. Andrew’s Episcopal Church\, 208 West Foster Avenue\, State College\, PA\, 16801\, United States
CATEGORIES:Church
GEO:40.7911417;-77.8601015
X-APPLE-STRUCTURED-LOCATION;VALUE=URI;X-ADDRESS=St. Andrew’s Episcopal Church 208 West Foster Avenue State College PA 16801 United States;X-APPLE-RADIUS=500;X-TITLE=208 West Foster Avenue:geo:-77.8601015,40.7911417
END:VEVENT
BEGIN:VEVENT
DTSTART;TZID=America/New_York:20281022T170000
DTEND;TZID=America/New_York:20281022T180000
DTSTAMP:20260425T192210
CREATED:20260114T134806Z
LAST-MODIFIED:20260114T135320Z
UID:10005490-1855846800-1855850400@standrewsc.org
SUMMARY:Holy Eucharist\, Rite II
DESCRIPTION:Casual worship service with contemporary praise music\, led by our worship band.
URL:https://standrewsc.org/event/holy-eucharist-rite-ii/2028-10-22/
LOCATION:St. Andrew’s Episcopal Church\, 208 West Foster Avenue\, State College\, PA\, 16801\, United States
CATEGORIES:Church
GEO:40.7911417;-77.8601015
X-APPLE-STRUCTURED-LOCATION;VALUE=URI;X-ADDRESS=St. Andrew’s Episcopal Church 208 West Foster Avenue State College PA 16801 United States;X-APPLE-RADIUS=500;X-TITLE=208 West Foster Avenue:geo:-77.8601015,40.7911417
END:VEVENT
BEGIN:VEVENT
DTSTART;TZID=America/New_York:20281026T170000
DTEND;TZID=America/New_York:20281026T190000
DTSTAMP:20260425T192210
CREATED:20260114T134143Z
LAST-MODIFIED:20260114T144817Z
UID:10005230-1856192400-1856199600@standrewsc.org
SUMMARY:Community Cafe
DESCRIPTION:Join us every Thursday for a free meal! \nDonations are accepted\, but never expected.
URL:https://standrewsc.org/event/community-cafe-2/2028-10-26/
CATEGORIES:featured
END:VEVENT
BEGIN:VEVENT
DTSTART;TZID=America/New_York:20281029T080000
DTEND;TZID=America/New_York:20281029T080000
DTSTAMP:20260425T192210
CREATED:20260114T135025Z
LAST-MODIFIED:20260114T135348Z
UID:10005752-1856419200-1856419200@standrewsc.org
SUMMARY:Holy Eucharist\, Rite I
DESCRIPTION:Join us for our usual Rite I Spoken Eucharist\, followed by Continental Breakfast in Room 325.
URL:https://standrewsc.org/event/holy-eucharist-rite-i/2028-10-29/
CATEGORIES:Church
END:VEVENT
BEGIN:VEVENT
DTSTART;TZID=America/New_York:20281029T100000
DTEND;TZID=America/New_York:20281029T100000
DTSTAMP:20260425T192210
CREATED:20260114T135244Z
LAST-MODIFIED:20260114T135258Z
UID:10006013-1856426400-1856426400@standrewsc.org
SUMMARY:Holy Eucharist\, Rite II\, In-person and on Facebook Live
DESCRIPTION:Join us either in-person or on Facebook Live for our principal weekly worship service.
URL:https://standrewsc.org/event/holy-eucharist-rite-ii-in-person-and-on-facebook-live/2028-10-29/
LOCATION:St. Andrew’s Episcopal Church\, 208 West Foster Avenue\, State College\, PA\, 16801\, United States
CATEGORIES:Church
GEO:40.7911417;-77.8601015
X-APPLE-STRUCTURED-LOCATION;VALUE=URI;X-ADDRESS=St. Andrew’s Episcopal Church 208 West Foster Avenue State College PA 16801 United States;X-APPLE-RADIUS=500;X-TITLE=208 West Foster Avenue:geo:-77.8601015,40.7911417
END:VEVENT
BEGIN:VEVENT
DTSTART;TZID=America/New_York:20281029T170000
DTEND;TZID=America/New_York:20281029T180000
DTSTAMP:20260425T192210
CREATED:20260114T134806Z
LAST-MODIFIED:20260114T135320Z
UID:10005491-1856451600-1856455200@standrewsc.org
SUMMARY:Holy Eucharist\, Rite II
DESCRIPTION:Casual worship service with contemporary praise music\, led by our worship band.
URL:https://standrewsc.org/event/holy-eucharist-rite-ii/2028-10-29/
LOCATION:St. Andrew’s Episcopal Church\, 208 West Foster Avenue\, State College\, PA\, 16801\, United States
CATEGORIES:Church
GEO:40.7911417;-77.8601015
X-APPLE-STRUCTURED-LOCATION;VALUE=URI;X-ADDRESS=St. Andrew’s Episcopal Church 208 West Foster Avenue State College PA 16801 United States;X-APPLE-RADIUS=500;X-TITLE=208 West Foster Avenue:geo:-77.8601015,40.7911417
END:VEVENT
BEGIN:VEVENT
DTSTART;TZID=America/New_York:20281102T170000
DTEND;TZID=America/New_York:20281102T190000
DTSTAMP:20260425T192210
CREATED:20260114T134143Z
LAST-MODIFIED:20260114T144817Z
UID:10005231-1856797200-1856804400@standrewsc.org
SUMMARY:Community Cafe
DESCRIPTION:Join us every Thursday for a free meal! \nDonations are accepted\, but never expected.
URL:https://standrewsc.org/event/community-cafe-2/2028-11-02/
CATEGORIES:featured
END:VEVENT
BEGIN:VEVENT
DTSTART;TZID=America/New_York:20281105T080000
DTEND;TZID=America/New_York:20281105T080000
DTSTAMP:20260425T192210
CREATED:20260114T135025Z
LAST-MODIFIED:20260114T135348Z
UID:10005753-1857024000-1857024000@standrewsc.org
SUMMARY:Holy Eucharist\, Rite I
DESCRIPTION:Join us for our usual Rite I Spoken Eucharist\, followed by Continental Breakfast in Room 325.
URL:https://standrewsc.org/event/holy-eucharist-rite-i/2028-11-05/
CATEGORIES:Church
END:VEVENT
BEGIN:VEVENT
DTSTART;TZID=America/New_York:20281105T100000
DTEND;TZID=America/New_York:20281105T100000
DTSTAMP:20260425T192210
CREATED:20260114T135244Z
LAST-MODIFIED:20260114T135258Z
UID:10006014-1857031200-1857031200@standrewsc.org
SUMMARY:Holy Eucharist\, Rite II\, In-person and on Facebook Live
DESCRIPTION:Join us either in-person or on Facebook Live for our principal weekly worship service.
URL:https://standrewsc.org/event/holy-eucharist-rite-ii-in-person-and-on-facebook-live/2028-11-05/
LOCATION:St. Andrew’s Episcopal Church\, 208 West Foster Avenue\, State College\, PA\, 16801\, United States
CATEGORIES:Church
GEO:40.7911417;-77.8601015
X-APPLE-STRUCTURED-LOCATION;VALUE=URI;X-ADDRESS=St. Andrew’s Episcopal Church 208 West Foster Avenue State College PA 16801 United States;X-APPLE-RADIUS=500;X-TITLE=208 West Foster Avenue:geo:-77.8601015,40.7911417
END:VEVENT
BEGIN:VEVENT
DTSTART;TZID=America/New_York:20281105T170000
DTEND;TZID=America/New_York:20281105T180000
DTSTAMP:20260425T192210
CREATED:20260114T134806Z
LAST-MODIFIED:20260114T135320Z
UID:10005492-1857056400-1857060000@standrewsc.org
SUMMARY:Holy Eucharist\, Rite II
DESCRIPTION:Casual worship service with contemporary praise music\, led by our worship band.
URL:https://standrewsc.org/event/holy-eucharist-rite-ii/2028-11-05/
LOCATION:St. Andrew’s Episcopal Church\, 208 West Foster Avenue\, State College\, PA\, 16801\, United States
CATEGORIES:Church
GEO:40.7911417;-77.8601015
X-APPLE-STRUCTURED-LOCATION;VALUE=URI;X-ADDRESS=St. Andrew’s Episcopal Church 208 West Foster Avenue State College PA 16801 United States;X-APPLE-RADIUS=500;X-TITLE=208 West Foster Avenue:geo:-77.8601015,40.7911417
END:VEVENT
BEGIN:VEVENT
DTSTART;TZID=America/New_York:20281109T170000
DTEND;TZID=America/New_York:20281109T190000
DTSTAMP:20260425T192210
CREATED:20260114T134143Z
LAST-MODIFIED:20260114T144817Z
UID:10005232-1857402000-1857409200@standrewsc.org
SUMMARY:Community Cafe
DESCRIPTION:Join us every Thursday for a free meal! \nDonations are accepted\, but never expected.
URL:https://standrewsc.org/event/community-cafe-2/2028-11-09/
CATEGORIES:featured
END:VEVENT
BEGIN:VEVENT
DTSTART;TZID=America/New_York:20281112T080000
DTEND;TZID=America/New_York:20281112T080000
DTSTAMP:20260425T192210
CREATED:20260114T135025Z
LAST-MODIFIED:20260114T135348Z
UID:10005754-1857628800-1857628800@standrewsc.org
SUMMARY:Holy Eucharist\, Rite I
DESCRIPTION:Join us for our usual Rite I Spoken Eucharist\, followed by Continental Breakfast in Room 325.
URL:https://standrewsc.org/event/holy-eucharist-rite-i/2028-11-12/
CATEGORIES:Church
END:VEVENT
BEGIN:VEVENT
DTSTART;TZID=America/New_York:20281112T100000
DTEND;TZID=America/New_York:20281112T100000
DTSTAMP:20260425T192210
CREATED:20260114T135244Z
LAST-MODIFIED:20260114T135258Z
UID:10006015-1857636000-1857636000@standrewsc.org
SUMMARY:Holy Eucharist\, Rite II\, In-person and on Facebook Live
DESCRIPTION:Join us either in-person or on Facebook Live for our principal weekly worship service.
URL:https://standrewsc.org/event/holy-eucharist-rite-ii-in-person-and-on-facebook-live/2028-11-12/
LOCATION:St. Andrew’s Episcopal Church\, 208 West Foster Avenue\, State College\, PA\, 16801\, United States
CATEGORIES:Church
GEO:40.7911417;-77.8601015
X-APPLE-STRUCTURED-LOCATION;VALUE=URI;X-ADDRESS=St. Andrew’s Episcopal Church 208 West Foster Avenue State College PA 16801 United States;X-APPLE-RADIUS=500;X-TITLE=208 West Foster Avenue:geo:-77.8601015,40.7911417
END:VEVENT
END:VCALENDAR