BEGIN:VCALENDAR
VERSION:2.0
PRODID:-//Saint Andrews Episcopal Church - State College, PA - ECPv6.15.14//NONSGML v1.0//EN
CALSCALE:GREGORIAN
METHOD:PUBLISH
X-ORIGINAL-URL:https://standrewsc.org
X-WR-CALDESC:Events for Saint Andrews Episcopal Church - State College, PA
REFRESH-INTERVAL;VALUE=DURATION:PT1H
X-Robots-Tag:noindex
X-PUBLISHED-TTL:PT1H
BEGIN:VTIMEZONE
TZID:America/New_York
BEGIN:DAYLIGHT
TZOFFSETFROM:-0500
TZOFFSETTO:-0400
TZNAME:EDT
DTSTART:20250309T070000
END:DAYLIGHT
BEGIN:STANDARD
TZOFFSETFROM:-0400
TZOFFSETTO:-0500
TZNAME:EST
DTSTART:20251102T060000
END:STANDARD
BEGIN:DAYLIGHT
TZOFFSETFROM:-0500
TZOFFSETTO:-0400
TZNAME:EDT
DTSTART:20260308T070000
END:DAYLIGHT
BEGIN:STANDARD
TZOFFSETFROM:-0400
TZOFFSETTO:-0500
TZNAME:EST
DTSTART:20261101T060000
END:STANDARD
BEGIN:DAYLIGHT
TZOFFSETFROM:-0500
TZOFFSETTO:-0400
TZNAME:EDT
DTSTART:20270314T070000
END:DAYLIGHT
BEGIN:STANDARD
TZOFFSETFROM:-0400
TZOFFSETTO:-0500
TZNAME:EST
DTSTART:20271107T060000
END:STANDARD
END:VTIMEZONE
BEGIN:VEVENT
DTSTART;TZID=America/New_York:20260521T170000
DTEND;TZID=America/New_York:20260521T190000
DTSTAMP:20260421T175639
CREATED:20260114T134143Z
LAST-MODIFIED:20260114T144817Z
UID:10005103-1779382800-1779390000@standrewsc.org
SUMMARY:Community Cafe
DESCRIPTION:Join us every Thursday for a free meal! \nDonations are accepted\, but never expected.
URL:https://standrewsc.org/event/community-cafe-2/2026-05-21/
CATEGORIES:featured
END:VEVENT
BEGIN:VEVENT
DTSTART;TZID=America/New_York:20260528T170000
DTEND;TZID=America/New_York:20260528T190000
DTSTAMP:20260421T175639
CREATED:20260114T134143Z
LAST-MODIFIED:20260114T144817Z
UID:10005104-1779987600-1779994800@standrewsc.org
SUMMARY:Community Cafe
DESCRIPTION:Join us every Thursday for a free meal! \nDonations are accepted\, but never expected.
URL:https://standrewsc.org/event/community-cafe-2/2026-05-28/
CATEGORIES:featured
END:VEVENT
BEGIN:VEVENT
DTSTART;TZID=America/New_York:20260604T170000
DTEND;TZID=America/New_York:20260604T190000
DTSTAMP:20260421T175639
CREATED:20260114T134143Z
LAST-MODIFIED:20260114T144817Z
UID:10005105-1780592400-1780599600@standrewsc.org
SUMMARY:Community Cafe
DESCRIPTION:Join us every Thursday for a free meal! \nDonations are accepted\, but never expected.
URL:https://standrewsc.org/event/community-cafe-2/2026-06-04/
CATEGORIES:featured
END:VEVENT
BEGIN:VEVENT
DTSTART;TZID=America/New_York:20260611T170000
DTEND;TZID=America/New_York:20260611T190000
DTSTAMP:20260421T175639
CREATED:20260114T134143Z
LAST-MODIFIED:20260114T144817Z
UID:10005106-1781197200-1781204400@standrewsc.org
SUMMARY:Community Cafe
DESCRIPTION:Join us every Thursday for a free meal! \nDonations are accepted\, but never expected.
URL:https://standrewsc.org/event/community-cafe-2/2026-06-11/
CATEGORIES:featured
END:VEVENT
BEGIN:VEVENT
DTSTART;TZID=America/New_York:20260618T170000
DTEND;TZID=America/New_York:20260618T190000
DTSTAMP:20260421T175639
CREATED:20260114T134143Z
LAST-MODIFIED:20260114T144817Z
UID:10005107-1781802000-1781809200@standrewsc.org
SUMMARY:Community Cafe
DESCRIPTION:Join us every Thursday for a free meal! \nDonations are accepted\, but never expected.
URL:https://standrewsc.org/event/community-cafe-2/2026-06-18/
CATEGORIES:featured
END:VEVENT
BEGIN:VEVENT
DTSTART;TZID=America/New_York:20260625T170000
DTEND;TZID=America/New_York:20260625T190000
DTSTAMP:20260421T175639
CREATED:20260114T134143Z
LAST-MODIFIED:20260114T144817Z
UID:10005108-1782406800-1782414000@standrewsc.org
SUMMARY:Community Cafe
DESCRIPTION:Join us every Thursday for a free meal! \nDonations are accepted\, but never expected.
URL:https://standrewsc.org/event/community-cafe-2/2026-06-25/
CATEGORIES:featured
END:VEVENT
BEGIN:VEVENT
DTSTART;TZID=America/New_York:20260702T170000
DTEND;TZID=America/New_York:20260702T190000
DTSTAMP:20260421T175639
CREATED:20260114T134143Z
LAST-MODIFIED:20260114T144817Z
UID:10005109-1783011600-1783018800@standrewsc.org
SUMMARY:Community Cafe
DESCRIPTION:Join us every Thursday for a free meal! \nDonations are accepted\, but never expected.
URL:https://standrewsc.org/event/community-cafe-2/2026-07-02/
CATEGORIES:featured
END:VEVENT
BEGIN:VEVENT
DTSTART;TZID=America/New_York:20260709T170000
DTEND;TZID=America/New_York:20260709T190000
DTSTAMP:20260421T175639
CREATED:20260114T134143Z
LAST-MODIFIED:20260114T144817Z
UID:10005110-1783616400-1783623600@standrewsc.org
SUMMARY:Community Cafe
DESCRIPTION:Join us every Thursday for a free meal! \nDonations are accepted\, but never expected.
URL:https://standrewsc.org/event/community-cafe-2/2026-07-09/
CATEGORIES:featured
END:VEVENT
BEGIN:VEVENT
DTSTART;TZID=America/New_York:20260716T170000
DTEND;TZID=America/New_York:20260716T190000
DTSTAMP:20260421T175639
CREATED:20260114T134143Z
LAST-MODIFIED:20260114T144817Z
UID:10005111-1784221200-1784228400@standrewsc.org
SUMMARY:Community Cafe
DESCRIPTION:Join us every Thursday for a free meal! \nDonations are accepted\, but never expected.
URL:https://standrewsc.org/event/community-cafe-2/2026-07-16/
CATEGORIES:featured
END:VEVENT
BEGIN:VEVENT
DTSTART;TZID=America/New_York:20260723T170000
DTEND;TZID=America/New_York:20260723T190000
DTSTAMP:20260421T175639
CREATED:20260114T134143Z
LAST-MODIFIED:20260114T144817Z
UID:10005112-1784826000-1784833200@standrewsc.org
SUMMARY:Community Cafe
DESCRIPTION:Join us every Thursday for a free meal! \nDonations are accepted\, but never expected.
URL:https://standrewsc.org/event/community-cafe-2/2026-07-23/
CATEGORIES:featured
END:VEVENT
BEGIN:VEVENT
DTSTART;TZID=America/New_York:20260730T170000
DTEND;TZID=America/New_York:20260730T190000
DTSTAMP:20260421T175639
CREATED:20260114T134143Z
LAST-MODIFIED:20260114T144817Z
UID:10005113-1785430800-1785438000@standrewsc.org
SUMMARY:Community Cafe
DESCRIPTION:Join us every Thursday for a free meal! \nDonations are accepted\, but never expected.
URL:https://standrewsc.org/event/community-cafe-2/2026-07-30/
CATEGORIES:featured
END:VEVENT
BEGIN:VEVENT
DTSTART;TZID=America/New_York:20260806T170000
DTEND;TZID=America/New_York:20260806T190000
DTSTAMP:20260421T175639
CREATED:20260114T134143Z
LAST-MODIFIED:20260114T144817Z
UID:10005114-1786035600-1786042800@standrewsc.org
SUMMARY:Community Cafe
DESCRIPTION:Join us every Thursday for a free meal! \nDonations are accepted\, but never expected.
URL:https://standrewsc.org/event/community-cafe-2/2026-08-06/
CATEGORIES:featured
END:VEVENT
BEGIN:VEVENT
DTSTART;TZID=America/New_York:20260813T170000
DTEND;TZID=America/New_York:20260813T190000
DTSTAMP:20260421T175639
CREATED:20260114T134143Z
LAST-MODIFIED:20260114T144817Z
UID:10005115-1786640400-1786647600@standrewsc.org
SUMMARY:Community Cafe
DESCRIPTION:Join us every Thursday for a free meal! \nDonations are accepted\, but never expected.
URL:https://standrewsc.org/event/community-cafe-2/2026-08-13/
CATEGORIES:featured
END:VEVENT
BEGIN:VEVENT
DTSTART;TZID=America/New_York:20260820T170000
DTEND;TZID=America/New_York:20260820T190000
DTSTAMP:20260421T175639
CREATED:20260114T134143Z
LAST-MODIFIED:20260114T144817Z
UID:10005116-1787245200-1787252400@standrewsc.org
SUMMARY:Community Cafe
DESCRIPTION:Join us every Thursday for a free meal! \nDonations are accepted\, but never expected.
URL:https://standrewsc.org/event/community-cafe-2/2026-08-20/
CATEGORIES:featured
END:VEVENT
BEGIN:VEVENT
DTSTART;TZID=America/New_York:20260827T170000
DTEND;TZID=America/New_York:20260827T190000
DTSTAMP:20260421T175639
CREATED:20260114T134143Z
LAST-MODIFIED:20260114T144817Z
UID:10005117-1787850000-1787857200@standrewsc.org
SUMMARY:Community Cafe
DESCRIPTION:Join us every Thursday for a free meal! \nDonations are accepted\, but never expected.
URL:https://standrewsc.org/event/community-cafe-2/2026-08-27/
CATEGORIES:featured
END:VEVENT
BEGIN:VEVENT
DTSTART;TZID=America/New_York:20260903T170000
DTEND;TZID=America/New_York:20260903T190000
DTSTAMP:20260421T175639
CREATED:20260114T134143Z
LAST-MODIFIED:20260114T144817Z
UID:10005118-1788454800-1788462000@standrewsc.org
SUMMARY:Community Cafe
DESCRIPTION:Join us every Thursday for a free meal! \nDonations are accepted\, but never expected.
URL:https://standrewsc.org/event/community-cafe-2/2026-09-03/
CATEGORIES:featured
END:VEVENT
BEGIN:VEVENT
DTSTART;TZID=America/New_York:20260910T170000
DTEND;TZID=America/New_York:20260910T190000
DTSTAMP:20260421T175639
CREATED:20260114T134143Z
LAST-MODIFIED:20260114T144817Z
UID:10005119-1789059600-1789066800@standrewsc.org
SUMMARY:Community Cafe
DESCRIPTION:Join us every Thursday for a free meal! \nDonations are accepted\, but never expected.
URL:https://standrewsc.org/event/community-cafe-2/2026-09-10/
CATEGORIES:featured
END:VEVENT
BEGIN:VEVENT
DTSTART;TZID=America/New_York:20260917T170000
DTEND;TZID=America/New_York:20260917T190000
DTSTAMP:20260421T175639
CREATED:20260114T134143Z
LAST-MODIFIED:20260114T144817Z
UID:10005120-1789664400-1789671600@standrewsc.org
SUMMARY:Community Cafe
DESCRIPTION:Join us every Thursday for a free meal! \nDonations are accepted\, but never expected.
URL:https://standrewsc.org/event/community-cafe-2/2026-09-17/
CATEGORIES:featured
END:VEVENT
BEGIN:VEVENT
DTSTART;TZID=America/New_York:20260924T170000
DTEND;TZID=America/New_York:20260924T190000
DTSTAMP:20260421T175639
CREATED:20260114T134143Z
LAST-MODIFIED:20260114T144817Z
UID:10005121-1790269200-1790276400@standrewsc.org
SUMMARY:Community Cafe
DESCRIPTION:Join us every Thursday for a free meal! \nDonations are accepted\, but never expected.
URL:https://standrewsc.org/event/community-cafe-2/2026-09-24/
CATEGORIES:featured
END:VEVENT
BEGIN:VEVENT
DTSTART;TZID=America/New_York:20261001T170000
DTEND;TZID=America/New_York:20261001T190000
DTSTAMP:20260421T175639
CREATED:20260114T134143Z
LAST-MODIFIED:20260114T144817Z
UID:10005122-1790874000-1790881200@standrewsc.org
SUMMARY:Community Cafe
DESCRIPTION:Join us every Thursday for a free meal! \nDonations are accepted\, but never expected.
URL:https://standrewsc.org/event/community-cafe-2/2026-10-01/
CATEGORIES:featured
END:VEVENT
BEGIN:VEVENT
DTSTART;TZID=America/New_York:20261008T170000
DTEND;TZID=America/New_York:20261008T190000
DTSTAMP:20260421T175639
CREATED:20260114T134143Z
LAST-MODIFIED:20260114T144817Z
UID:10005123-1791478800-1791486000@standrewsc.org
SUMMARY:Community Cafe
DESCRIPTION:Join us every Thursday for a free meal! \nDonations are accepted\, but never expected.
URL:https://standrewsc.org/event/community-cafe-2/2026-10-08/
CATEGORIES:featured
END:VEVENT
BEGIN:VEVENT
DTSTART;TZID=America/New_York:20261015T170000
DTEND;TZID=America/New_York:20261015T190000
DTSTAMP:20260421T175639
CREATED:20260114T134143Z
LAST-MODIFIED:20260114T144817Z
UID:10005124-1792083600-1792090800@standrewsc.org
SUMMARY:Community Cafe
DESCRIPTION:Join us every Thursday for a free meal! \nDonations are accepted\, but never expected.
URL:https://standrewsc.org/event/community-cafe-2/2026-10-15/
CATEGORIES:featured
END:VEVENT
BEGIN:VEVENT
DTSTART;TZID=America/New_York:20261022T170000
DTEND;TZID=America/New_York:20261022T190000
DTSTAMP:20260421T175639
CREATED:20260114T134143Z
LAST-MODIFIED:20260114T144817Z
UID:10005125-1792688400-1792695600@standrewsc.org
SUMMARY:Community Cafe
DESCRIPTION:Join us every Thursday for a free meal! \nDonations are accepted\, but never expected.
URL:https://standrewsc.org/event/community-cafe-2/2026-10-22/
CATEGORIES:featured
END:VEVENT
BEGIN:VEVENT
DTSTART;TZID=America/New_York:20261029T170000
DTEND;TZID=America/New_York:20261029T190000
DTSTAMP:20260421T175639
CREATED:20260114T134143Z
LAST-MODIFIED:20260114T144817Z
UID:10005126-1793293200-1793300400@standrewsc.org
SUMMARY:Community Cafe
DESCRIPTION:Join us every Thursday for a free meal! \nDonations are accepted\, but never expected.
URL:https://standrewsc.org/event/community-cafe-2/2026-10-29/
CATEGORIES:featured
END:VEVENT
BEGIN:VEVENT
DTSTART;TZID=America/New_York:20261105T170000
DTEND;TZID=America/New_York:20261105T190000
DTSTAMP:20260421T175639
CREATED:20260114T134143Z
LAST-MODIFIED:20260114T144817Z
UID:10005127-1793898000-1793905200@standrewsc.org
SUMMARY:Community Cafe
DESCRIPTION:Join us every Thursday for a free meal! \nDonations are accepted\, but never expected.
URL:https://standrewsc.org/event/community-cafe-2/2026-11-05/
CATEGORIES:featured
END:VEVENT
BEGIN:VEVENT
DTSTART;TZID=America/New_York:20261112T170000
DTEND;TZID=America/New_York:20261112T190000
DTSTAMP:20260421T175639
CREATED:20260114T134143Z
LAST-MODIFIED:20260114T144817Z
UID:10005128-1794502800-1794510000@standrewsc.org
SUMMARY:Community Cafe
DESCRIPTION:Join us every Thursday for a free meal! \nDonations are accepted\, but never expected.
URL:https://standrewsc.org/event/community-cafe-2/2026-11-12/
CATEGORIES:featured
END:VEVENT
BEGIN:VEVENT
DTSTART;TZID=America/New_York:20261119T170000
DTEND;TZID=America/New_York:20261119T190000
DTSTAMP:20260421T175639
CREATED:20260114T134143Z
LAST-MODIFIED:20260114T144817Z
UID:10005129-1795107600-1795114800@standrewsc.org
SUMMARY:Community Cafe
DESCRIPTION:Join us every Thursday for a free meal! \nDonations are accepted\, but never expected.
URL:https://standrewsc.org/event/community-cafe-2/2026-11-19/
CATEGORIES:featured
END:VEVENT
BEGIN:VEVENT
DTSTART;TZID=America/New_York:20261126T170000
DTEND;TZID=America/New_York:20261126T190000
DTSTAMP:20260421T175639
CREATED:20260114T134143Z
LAST-MODIFIED:20260114T144817Z
UID:10005130-1795712400-1795719600@standrewsc.org
SUMMARY:Community Cafe
DESCRIPTION:Join us every Thursday for a free meal! \nDonations are accepted\, but never expected.
URL:https://standrewsc.org/event/community-cafe-2/2026-11-26/
CATEGORIES:featured
END:VEVENT
BEGIN:VEVENT
DTSTART;TZID=America/New_York:20261203T170000
DTEND;TZID=America/New_York:20261203T190000
DTSTAMP:20260421T175639
CREATED:20260114T134143Z
LAST-MODIFIED:20260114T144817Z
UID:10005131-1796317200-1796324400@standrewsc.org
SUMMARY:Community Cafe
DESCRIPTION:Join us every Thursday for a free meal! \nDonations are accepted\, but never expected.
URL:https://standrewsc.org/event/community-cafe-2/2026-12-03/
CATEGORIES:featured
END:VEVENT
BEGIN:VEVENT
DTSTART;TZID=America/New_York:20261210T170000
DTEND;TZID=America/New_York:20261210T190000
DTSTAMP:20260421T175639
CREATED:20260114T134143Z
LAST-MODIFIED:20260114T144817Z
UID:10005132-1796922000-1796929200@standrewsc.org
SUMMARY:Community Cafe
DESCRIPTION:Join us every Thursday for a free meal! \nDonations are accepted\, but never expected.
URL:https://standrewsc.org/event/community-cafe-2/2026-12-10/
CATEGORIES:featured
END:VEVENT
END:VCALENDAR