BEGIN:VCALENDAR
VERSION:2.0
PRODID:-//Saint Andrews Episcopal Church - State College, PA - ECPv6.15.14//NONSGML v1.0//EN
CALSCALE:GREGORIAN
METHOD:PUBLISH
X-WR-CALNAME:Saint Andrews Episcopal Church - State College, PA
X-ORIGINAL-URL:https://standrewsc.org
X-WR-CALDESC:Events for Saint Andrews Episcopal Church - State College, PA
REFRESH-INTERVAL;VALUE=DURATION:PT1H
X-Robots-Tag:noindex
X-PUBLISHED-TTL:PT1H
BEGIN:VTIMEZONE
TZID:America/New_York
BEGIN:DAYLIGHT
TZOFFSETFROM:-0500
TZOFFSETTO:-0400
TZNAME:EDT
DTSTART:20270314T070000
END:DAYLIGHT
BEGIN:STANDARD
TZOFFSETFROM:-0400
TZOFFSETTO:-0500
TZNAME:EST
DTSTART:20271107T060000
END:STANDARD
BEGIN:DAYLIGHT
TZOFFSETFROM:-0500
TZOFFSETTO:-0400
TZNAME:EDT
DTSTART:20280312T070000
END:DAYLIGHT
BEGIN:STANDARD
TZOFFSETFROM:-0400
TZOFFSETTO:-0500
TZNAME:EST
DTSTART:20281105T060000
END:STANDARD
BEGIN:DAYLIGHT
TZOFFSETFROM:-0500
TZOFFSETTO:-0400
TZNAME:EDT
DTSTART:20290311T070000
END:DAYLIGHT
BEGIN:STANDARD
TZOFFSETFROM:-0400
TZOFFSETTO:-0500
TZNAME:EST
DTSTART:20291104T060000
END:STANDARD
BEGIN:DAYLIGHT
TZOFFSETFROM:-0500
TZOFFSETTO:-0400
TZNAME:EDT
DTSTART:20300310T070000
END:DAYLIGHT
BEGIN:STANDARD
TZOFFSETFROM:-0400
TZOFFSETTO:-0500
TZNAME:EST
DTSTART:20301103T060000
END:STANDARD
END:VTIMEZONE
BEGIN:VEVENT
DTSTART;TZID=America/New_York:20281123T170000
DTEND;TZID=America/New_York:20281123T190000
DTSTAMP:20260423T032117
CREATED:20260114T134143Z
LAST-MODIFIED:20260114T144817Z
UID:10005234-1858611600-1858618800@standrewsc.org
SUMMARY:Community Cafe
DESCRIPTION:Join us every Thursday for a free meal! \nDonations are accepted\, but never expected.
URL:https://standrewsc.org/event/community-cafe-2/2028-11-23/
CATEGORIES:featured
END:VEVENT
BEGIN:VEVENT
DTSTART;TZID=America/New_York:20281130T170000
DTEND;TZID=America/New_York:20281130T190000
DTSTAMP:20260423T032117
CREATED:20260114T134143Z
LAST-MODIFIED:20260114T144817Z
UID:10005235-1859216400-1859223600@standrewsc.org
SUMMARY:Community Cafe
DESCRIPTION:Join us every Thursday for a free meal! \nDonations are accepted\, but never expected.
URL:https://standrewsc.org/event/community-cafe-2/2028-11-30/
CATEGORIES:featured
END:VEVENT
BEGIN:VEVENT
DTSTART;TZID=America/New_York:20281207T170000
DTEND;TZID=America/New_York:20281207T190000
DTSTAMP:20260423T032117
CREATED:20260114T134143Z
LAST-MODIFIED:20260114T144817Z
UID:10005236-1859821200-1859828400@standrewsc.org
SUMMARY:Community Cafe
DESCRIPTION:Join us every Thursday for a free meal! \nDonations are accepted\, but never expected.
URL:https://standrewsc.org/event/community-cafe-2/2028-12-07/
CATEGORIES:featured
END:VEVENT
BEGIN:VEVENT
DTSTART;TZID=America/New_York:20281214T170000
DTEND;TZID=America/New_York:20281214T190000
DTSTAMP:20260423T032117
CREATED:20260114T134143Z
LAST-MODIFIED:20260114T144817Z
UID:10005237-1860426000-1860433200@standrewsc.org
SUMMARY:Community Cafe
DESCRIPTION:Join us every Thursday for a free meal! \nDonations are accepted\, but never expected.
URL:https://standrewsc.org/event/community-cafe-2/2028-12-14/
CATEGORIES:featured
END:VEVENT
BEGIN:VEVENT
DTSTART;TZID=America/New_York:20281221T170000
DTEND;TZID=America/New_York:20281221T190000
DTSTAMP:20260423T032117
CREATED:20260114T134143Z
LAST-MODIFIED:20260114T144817Z
UID:10005238-1861030800-1861038000@standrewsc.org
SUMMARY:Community Cafe
DESCRIPTION:Join us every Thursday for a free meal! \nDonations are accepted\, but never expected.
URL:https://standrewsc.org/event/community-cafe-2/2028-12-21/
CATEGORIES:featured
END:VEVENT
BEGIN:VEVENT
DTSTART;TZID=America/New_York:20281228T170000
DTEND;TZID=America/New_York:20281228T190000
DTSTAMP:20260423T032117
CREATED:20260114T134143Z
LAST-MODIFIED:20260114T144817Z
UID:10005239-1861635600-1861642800@standrewsc.org
SUMMARY:Community Cafe
DESCRIPTION:Join us every Thursday for a free meal! \nDonations are accepted\, but never expected.
URL:https://standrewsc.org/event/community-cafe-2/2028-12-28/
CATEGORIES:featured
END:VEVENT
BEGIN:VEVENT
DTSTART;TZID=America/New_York:20290104T170000
DTEND;TZID=America/New_York:20290104T190000
DTSTAMP:20260423T032117
CREATED:20260114T134143Z
LAST-MODIFIED:20260114T144817Z
UID:10005240-1862240400-1862247600@standrewsc.org
SUMMARY:Community Cafe
DESCRIPTION:Join us every Thursday for a free meal! \nDonations are accepted\, but never expected.
URL:https://standrewsc.org/event/community-cafe-2/2029-01-04/
CATEGORIES:featured
END:VEVENT
BEGIN:VEVENT
DTSTART;TZID=America/New_York:20290111T170000
DTEND;TZID=America/New_York:20290111T190000
DTSTAMP:20260423T032117
CREATED:20260114T134143Z
LAST-MODIFIED:20260114T144817Z
UID:10005241-1862845200-1862852400@standrewsc.org
SUMMARY:Community Cafe
DESCRIPTION:Join us every Thursday for a free meal! \nDonations are accepted\, but never expected.
URL:https://standrewsc.org/event/community-cafe-2/2029-01-11/
CATEGORIES:featured
END:VEVENT
BEGIN:VEVENT
DTSTART;TZID=America/New_York:20290118T170000
DTEND;TZID=America/New_York:20290118T190000
DTSTAMP:20260423T032117
CREATED:20260114T134143Z
LAST-MODIFIED:20260114T144817Z
UID:10005242-1863450000-1863457200@standrewsc.org
SUMMARY:Community Cafe
DESCRIPTION:Join us every Thursday for a free meal! \nDonations are accepted\, but never expected.
URL:https://standrewsc.org/event/community-cafe-2/2029-01-18/
CATEGORIES:featured
END:VEVENT
BEGIN:VEVENT
DTSTART;TZID=America/New_York:20290125T170000
DTEND;TZID=America/New_York:20290125T190000
DTSTAMP:20260423T032117
CREATED:20260114T134143Z
LAST-MODIFIED:20260114T144817Z
UID:10005243-1864054800-1864062000@standrewsc.org
SUMMARY:Community Cafe
DESCRIPTION:Join us every Thursday for a free meal! \nDonations are accepted\, but never expected.
URL:https://standrewsc.org/event/community-cafe-2/2029-01-25/
CATEGORIES:featured
END:VEVENT
BEGIN:VEVENT
DTSTART;TZID=America/New_York:20290201T170000
DTEND;TZID=America/New_York:20290201T190000
DTSTAMP:20260423T032117
CREATED:20260114T134143Z
LAST-MODIFIED:20260114T144817Z
UID:10005244-1864659600-1864666800@standrewsc.org
SUMMARY:Community Cafe
DESCRIPTION:Join us every Thursday for a free meal! \nDonations are accepted\, but never expected.
URL:https://standrewsc.org/event/community-cafe-2/2029-02-01/
CATEGORIES:featured
END:VEVENT
BEGIN:VEVENT
DTSTART;TZID=America/New_York:20290208T170000
DTEND;TZID=America/New_York:20290208T190000
DTSTAMP:20260423T032117
CREATED:20260114T134143Z
LAST-MODIFIED:20260114T144817Z
UID:10005245-1865264400-1865271600@standrewsc.org
SUMMARY:Community Cafe
DESCRIPTION:Join us every Thursday for a free meal! \nDonations are accepted\, but never expected.
URL:https://standrewsc.org/event/community-cafe-2/2029-02-08/
CATEGORIES:featured
END:VEVENT
BEGIN:VEVENT
DTSTART;TZID=America/New_York:20290215T170000
DTEND;TZID=America/New_York:20290215T190000
DTSTAMP:20260423T032117
CREATED:20260114T134143Z
LAST-MODIFIED:20260114T144817Z
UID:10005246-1865869200-1865876400@standrewsc.org
SUMMARY:Community Cafe
DESCRIPTION:Join us every Thursday for a free meal! \nDonations are accepted\, but never expected.
URL:https://standrewsc.org/event/community-cafe-2/2029-02-15/
CATEGORIES:featured
END:VEVENT
BEGIN:VEVENT
DTSTART;TZID=America/New_York:20290222T170000
DTEND;TZID=America/New_York:20290222T190000
DTSTAMP:20260423T032117
CREATED:20260114T134143Z
LAST-MODIFIED:20260114T144817Z
UID:10005247-1866474000-1866481200@standrewsc.org
SUMMARY:Community Cafe
DESCRIPTION:Join us every Thursday for a free meal! \nDonations are accepted\, but never expected.
URL:https://standrewsc.org/event/community-cafe-2/2029-02-22/
CATEGORIES:featured
END:VEVENT
BEGIN:VEVENT
DTSTART;TZID=America/New_York:20290301T170000
DTEND;TZID=America/New_York:20290301T190000
DTSTAMP:20260423T032117
CREATED:20260114T134143Z
LAST-MODIFIED:20260114T144817Z
UID:10005248-1867078800-1867086000@standrewsc.org
SUMMARY:Community Cafe
DESCRIPTION:Join us every Thursday for a free meal! \nDonations are accepted\, but never expected.
URL:https://standrewsc.org/event/community-cafe-2/2029-03-01/
CATEGORIES:featured
END:VEVENT
BEGIN:VEVENT
DTSTART;TZID=America/New_York:20290308T170000
DTEND;TZID=America/New_York:20290308T190000
DTSTAMP:20260423T032117
CREATED:20260114T134143Z
LAST-MODIFIED:20260114T144817Z
UID:10005249-1867683600-1867690800@standrewsc.org
SUMMARY:Community Cafe
DESCRIPTION:Join us every Thursday for a free meal! \nDonations are accepted\, but never expected.
URL:https://standrewsc.org/event/community-cafe-2/2029-03-08/
CATEGORIES:featured
END:VEVENT
BEGIN:VEVENT
DTSTART;TZID=America/New_York:20290315T170000
DTEND;TZID=America/New_York:20290315T190000
DTSTAMP:20260423T032117
CREATED:20260114T134143Z
LAST-MODIFIED:20260114T144817Z
UID:10005250-1868288400-1868295600@standrewsc.org
SUMMARY:Community Cafe
DESCRIPTION:Join us every Thursday for a free meal! \nDonations are accepted\, but never expected.
URL:https://standrewsc.org/event/community-cafe-2/2029-03-15/
CATEGORIES:featured
END:VEVENT
BEGIN:VEVENT
DTSTART;TZID=America/New_York:20290322T170000
DTEND;TZID=America/New_York:20290322T190000
DTSTAMP:20260423T032117
CREATED:20260114T134143Z
LAST-MODIFIED:20260114T144817Z
UID:10005251-1868893200-1868900400@standrewsc.org
SUMMARY:Community Cafe
DESCRIPTION:Join us every Thursday for a free meal! \nDonations are accepted\, but never expected.
URL:https://standrewsc.org/event/community-cafe-2/2029-03-22/
CATEGORIES:featured
END:VEVENT
BEGIN:VEVENT
DTSTART;TZID=America/New_York:20290329T170000
DTEND;TZID=America/New_York:20290329T190000
DTSTAMP:20260423T032117
CREATED:20260114T134143Z
LAST-MODIFIED:20260114T144817Z
UID:10005252-1869498000-1869505200@standrewsc.org
SUMMARY:Community Cafe
DESCRIPTION:Join us every Thursday for a free meal! \nDonations are accepted\, but never expected.
URL:https://standrewsc.org/event/community-cafe-2/2029-03-29/
CATEGORIES:featured
END:VEVENT
BEGIN:VEVENT
DTSTART;TZID=America/New_York:20290405T170000
DTEND;TZID=America/New_York:20290405T190000
DTSTAMP:20260423T032117
CREATED:20260114T134143Z
LAST-MODIFIED:20260114T144817Z
UID:10005253-1870102800-1870110000@standrewsc.org
SUMMARY:Community Cafe
DESCRIPTION:Join us every Thursday for a free meal! \nDonations are accepted\, but never expected.
URL:https://standrewsc.org/event/community-cafe-2/2029-04-05/
CATEGORIES:featured
END:VEVENT
BEGIN:VEVENT
DTSTART;TZID=America/New_York:20290412T170000
DTEND;TZID=America/New_York:20290412T190000
DTSTAMP:20260423T032117
CREATED:20260114T134143Z
LAST-MODIFIED:20260114T144817Z
UID:10005254-1870707600-1870714800@standrewsc.org
SUMMARY:Community Cafe
DESCRIPTION:Join us every Thursday for a free meal! \nDonations are accepted\, but never expected.
URL:https://standrewsc.org/event/community-cafe-2/2029-04-12/
CATEGORIES:featured
END:VEVENT
BEGIN:VEVENT
DTSTART;TZID=America/New_York:20290419T170000
DTEND;TZID=America/New_York:20290419T190000
DTSTAMP:20260423T032117
CREATED:20260114T134143Z
LAST-MODIFIED:20260114T144817Z
UID:10005255-1871312400-1871319600@standrewsc.org
SUMMARY:Community Cafe
DESCRIPTION:Join us every Thursday for a free meal! \nDonations are accepted\, but never expected.
URL:https://standrewsc.org/event/community-cafe-2/2029-04-19/
CATEGORIES:featured
END:VEVENT
BEGIN:VEVENT
DTSTART;TZID=America/New_York:20290426T170000
DTEND;TZID=America/New_York:20290426T190000
DTSTAMP:20260423T032117
CREATED:20260114T134143Z
LAST-MODIFIED:20260114T144817Z
UID:10005256-1871917200-1871924400@standrewsc.org
SUMMARY:Community Cafe
DESCRIPTION:Join us every Thursday for a free meal! \nDonations are accepted\, but never expected.
URL:https://standrewsc.org/event/community-cafe-2/2029-04-26/
CATEGORIES:featured
END:VEVENT
BEGIN:VEVENT
DTSTART;TZID=America/New_York:20290503T170000
DTEND;TZID=America/New_York:20290503T190000
DTSTAMP:20260423T032117
CREATED:20260114T134143Z
LAST-MODIFIED:20260114T144817Z
UID:10005257-1872522000-1872529200@standrewsc.org
SUMMARY:Community Cafe
DESCRIPTION:Join us every Thursday for a free meal! \nDonations are accepted\, but never expected.
URL:https://standrewsc.org/event/community-cafe-2/2029-05-03/
CATEGORIES:featured
END:VEVENT
BEGIN:VEVENT
DTSTART;TZID=America/New_York:20290510T170000
DTEND;TZID=America/New_York:20290510T190000
DTSTAMP:20260423T032117
CREATED:20260114T134143Z
LAST-MODIFIED:20260114T144817Z
UID:10005258-1873126800-1873134000@standrewsc.org
SUMMARY:Community Cafe
DESCRIPTION:Join us every Thursday for a free meal! \nDonations are accepted\, but never expected.
URL:https://standrewsc.org/event/community-cafe-2/2029-05-10/
CATEGORIES:featured
END:VEVENT
BEGIN:VEVENT
DTSTART;TZID=America/New_York:20290517T170000
DTEND;TZID=America/New_York:20290517T190000
DTSTAMP:20260423T032117
CREATED:20260114T134143Z
LAST-MODIFIED:20260114T144817Z
UID:10005259-1873731600-1873738800@standrewsc.org
SUMMARY:Community Cafe
DESCRIPTION:Join us every Thursday for a free meal! \nDonations are accepted\, but never expected.
URL:https://standrewsc.org/event/community-cafe-2/2029-05-17/
CATEGORIES:featured
END:VEVENT
BEGIN:VEVENT
DTSTART;TZID=America/New_York:20290524T170000
DTEND;TZID=America/New_York:20290524T190000
DTSTAMP:20260423T032117
CREATED:20260114T134143Z
LAST-MODIFIED:20260114T144817Z
UID:10005260-1874336400-1874343600@standrewsc.org
SUMMARY:Community Cafe
DESCRIPTION:Join us every Thursday for a free meal! \nDonations are accepted\, but never expected.
URL:https://standrewsc.org/event/community-cafe-2/2029-05-24/
CATEGORIES:featured
END:VEVENT
BEGIN:VEVENT
DTSTART;TZID=America/New_York:20290531T170000
DTEND;TZID=America/New_York:20290531T190000
DTSTAMP:20260423T032117
CREATED:20260114T134143Z
LAST-MODIFIED:20260114T144817Z
UID:10005261-1874941200-1874948400@standrewsc.org
SUMMARY:Community Cafe
DESCRIPTION:Join us every Thursday for a free meal! \nDonations are accepted\, but never expected.
URL:https://standrewsc.org/event/community-cafe-2/2029-05-31/
CATEGORIES:featured
END:VEVENT
BEGIN:VEVENT
DTSTART;TZID=America/New_York:20290607T170000
DTEND;TZID=America/New_York:20290607T190000
DTSTAMP:20260423T032117
CREATED:20260114T134143Z
LAST-MODIFIED:20260114T144817Z
UID:10005262-1875546000-1875553200@standrewsc.org
SUMMARY:Community Cafe
DESCRIPTION:Join us every Thursday for a free meal! \nDonations are accepted\, but never expected.
URL:https://standrewsc.org/event/community-cafe-2/2029-06-07/
CATEGORIES:featured
END:VEVENT
BEGIN:VEVENT
DTSTART;TZID=America/New_York:20290614T170000
DTEND;TZID=America/New_York:20290614T190000
DTSTAMP:20260423T032117
CREATED:20260114T134143Z
LAST-MODIFIED:20260114T144817Z
UID:10005263-1876150800-1876158000@standrewsc.org
SUMMARY:Community Cafe
DESCRIPTION:Join us every Thursday for a free meal! \nDonations are accepted\, but never expected.
URL:https://standrewsc.org/event/community-cafe-2/2029-06-14/
CATEGORIES:featured
END:VEVENT
END:VCALENDAR