BEGIN:VCALENDAR
VERSION:2.0
PRODID:-//Saint Andrews Episcopal Church - State College, PA - ECPv6.15.14//NONSGML v1.0//EN
CALSCALE:GREGORIAN
METHOD:PUBLISH
X-ORIGINAL-URL:https://standrewsc.org
X-WR-CALDESC:Events for Saint Andrews Episcopal Church - State College, PA
REFRESH-INTERVAL;VALUE=DURATION:PT1H
X-Robots-Tag:noindex
X-PUBLISHED-TTL:PT1H
BEGIN:VTIMEZONE
TZID:America/New_York
BEGIN:DAYLIGHT
TZOFFSETFROM:-0500
TZOFFSETTO:-0400
TZNAME:EDT
DTSTART:20270314T070000
END:DAYLIGHT
BEGIN:STANDARD
TZOFFSETFROM:-0400
TZOFFSETTO:-0500
TZNAME:EST
DTSTART:20271107T060000
END:STANDARD
BEGIN:DAYLIGHT
TZOFFSETFROM:-0500
TZOFFSETTO:-0400
TZNAME:EDT
DTSTART:20280312T070000
END:DAYLIGHT
BEGIN:STANDARD
TZOFFSETFROM:-0400
TZOFFSETTO:-0500
TZNAME:EST
DTSTART:20281105T060000
END:STANDARD
BEGIN:DAYLIGHT
TZOFFSETFROM:-0500
TZOFFSETTO:-0400
TZNAME:EDT
DTSTART:20290311T070000
END:DAYLIGHT
BEGIN:STANDARD
TZOFFSETFROM:-0400
TZOFFSETTO:-0500
TZNAME:EST
DTSTART:20291104T060000
END:STANDARD
END:VTIMEZONE
BEGIN:VEVENT
DTSTART;TZID=America/New_York:20280217T170000
DTEND;TZID=America/New_York:20280217T190000
DTSTAMP:20260423T121626
CREATED:20260114T134143Z
LAST-MODIFIED:20260114T144817Z
UID:10005194-1834419600-1834426800@standrewsc.org
SUMMARY:Community Cafe
DESCRIPTION:Join us every Thursday for a free meal! \nDonations are accepted\, but never expected.
URL:https://standrewsc.org/event/community-cafe-2/2028-02-17/
CATEGORIES:featured
END:VEVENT
BEGIN:VEVENT
DTSTART;TZID=America/New_York:20280224T170000
DTEND;TZID=America/New_York:20280224T190000
DTSTAMP:20260423T121626
CREATED:20260114T134143Z
LAST-MODIFIED:20260114T144817Z
UID:10005195-1835024400-1835031600@standrewsc.org
SUMMARY:Community Cafe
DESCRIPTION:Join us every Thursday for a free meal! \nDonations are accepted\, but never expected.
URL:https://standrewsc.org/event/community-cafe-2/2028-02-24/
CATEGORIES:featured
END:VEVENT
BEGIN:VEVENT
DTSTART;TZID=America/New_York:20280302T170000
DTEND;TZID=America/New_York:20280302T190000
DTSTAMP:20260423T121626
CREATED:20260114T134143Z
LAST-MODIFIED:20260114T144817Z
UID:10005196-1835629200-1835636400@standrewsc.org
SUMMARY:Community Cafe
DESCRIPTION:Join us every Thursday for a free meal! \nDonations are accepted\, but never expected.
URL:https://standrewsc.org/event/community-cafe-2/2028-03-02/
CATEGORIES:featured
END:VEVENT
BEGIN:VEVENT
DTSTART;TZID=America/New_York:20280309T170000
DTEND;TZID=America/New_York:20280309T190000
DTSTAMP:20260423T121626
CREATED:20260114T134143Z
LAST-MODIFIED:20260114T144817Z
UID:10005197-1836234000-1836241200@standrewsc.org
SUMMARY:Community Cafe
DESCRIPTION:Join us every Thursday for a free meal! \nDonations are accepted\, but never expected.
URL:https://standrewsc.org/event/community-cafe-2/2028-03-09/
CATEGORIES:featured
END:VEVENT
BEGIN:VEVENT
DTSTART;TZID=America/New_York:20280316T170000
DTEND;TZID=America/New_York:20280316T190000
DTSTAMP:20260423T121626
CREATED:20260114T134143Z
LAST-MODIFIED:20260114T144817Z
UID:10005198-1836838800-1836846000@standrewsc.org
SUMMARY:Community Cafe
DESCRIPTION:Join us every Thursday for a free meal! \nDonations are accepted\, but never expected.
URL:https://standrewsc.org/event/community-cafe-2/2028-03-16/
CATEGORIES:featured
END:VEVENT
BEGIN:VEVENT
DTSTART;TZID=America/New_York:20280323T170000
DTEND;TZID=America/New_York:20280323T190000
DTSTAMP:20260423T121626
CREATED:20260114T134143Z
LAST-MODIFIED:20260114T144817Z
UID:10005199-1837443600-1837450800@standrewsc.org
SUMMARY:Community Cafe
DESCRIPTION:Join us every Thursday for a free meal! \nDonations are accepted\, but never expected.
URL:https://standrewsc.org/event/community-cafe-2/2028-03-23/
CATEGORIES:featured
END:VEVENT
BEGIN:VEVENT
DTSTART;TZID=America/New_York:20280330T170000
DTEND;TZID=America/New_York:20280330T190000
DTSTAMP:20260423T121626
CREATED:20260114T134143Z
LAST-MODIFIED:20260114T144817Z
UID:10005200-1838048400-1838055600@standrewsc.org
SUMMARY:Community Cafe
DESCRIPTION:Join us every Thursday for a free meal! \nDonations are accepted\, but never expected.
URL:https://standrewsc.org/event/community-cafe-2/2028-03-30/
CATEGORIES:featured
END:VEVENT
BEGIN:VEVENT
DTSTART;TZID=America/New_York:20280406T170000
DTEND;TZID=America/New_York:20280406T190000
DTSTAMP:20260423T121626
CREATED:20260114T134143Z
LAST-MODIFIED:20260114T144817Z
UID:10005201-1838653200-1838660400@standrewsc.org
SUMMARY:Community Cafe
DESCRIPTION:Join us every Thursday for a free meal! \nDonations are accepted\, but never expected.
URL:https://standrewsc.org/event/community-cafe-2/2028-04-06/
CATEGORIES:featured
END:VEVENT
BEGIN:VEVENT
DTSTART;TZID=America/New_York:20280413T170000
DTEND;TZID=America/New_York:20280413T190000
DTSTAMP:20260423T121626
CREATED:20260114T134143Z
LAST-MODIFIED:20260114T144817Z
UID:10005202-1839258000-1839265200@standrewsc.org
SUMMARY:Community Cafe
DESCRIPTION:Join us every Thursday for a free meal! \nDonations are accepted\, but never expected.
URL:https://standrewsc.org/event/community-cafe-2/2028-04-13/
CATEGORIES:featured
END:VEVENT
BEGIN:VEVENT
DTSTART;TZID=America/New_York:20280420T170000
DTEND;TZID=America/New_York:20280420T190000
DTSTAMP:20260423T121626
CREATED:20260114T134143Z
LAST-MODIFIED:20260114T144817Z
UID:10005203-1839862800-1839870000@standrewsc.org
SUMMARY:Community Cafe
DESCRIPTION:Join us every Thursday for a free meal! \nDonations are accepted\, but never expected.
URL:https://standrewsc.org/event/community-cafe-2/2028-04-20/
CATEGORIES:featured
END:VEVENT
BEGIN:VEVENT
DTSTART;TZID=America/New_York:20280427T170000
DTEND;TZID=America/New_York:20280427T190000
DTSTAMP:20260423T121626
CREATED:20260114T134143Z
LAST-MODIFIED:20260114T144817Z
UID:10005204-1840467600-1840474800@standrewsc.org
SUMMARY:Community Cafe
DESCRIPTION:Join us every Thursday for a free meal! \nDonations are accepted\, but never expected.
URL:https://standrewsc.org/event/community-cafe-2/2028-04-27/
CATEGORIES:featured
END:VEVENT
BEGIN:VEVENT
DTSTART;TZID=America/New_York:20280504T170000
DTEND;TZID=America/New_York:20280504T190000
DTSTAMP:20260423T121626
CREATED:20260114T134143Z
LAST-MODIFIED:20260114T144817Z
UID:10005205-1841072400-1841079600@standrewsc.org
SUMMARY:Community Cafe
DESCRIPTION:Join us every Thursday for a free meal! \nDonations are accepted\, but never expected.
URL:https://standrewsc.org/event/community-cafe-2/2028-05-04/
CATEGORIES:featured
END:VEVENT
BEGIN:VEVENT
DTSTART;TZID=America/New_York:20280511T170000
DTEND;TZID=America/New_York:20280511T190000
DTSTAMP:20260423T121626
CREATED:20260114T134143Z
LAST-MODIFIED:20260114T144817Z
UID:10005206-1841677200-1841684400@standrewsc.org
SUMMARY:Community Cafe
DESCRIPTION:Join us every Thursday for a free meal! \nDonations are accepted\, but never expected.
URL:https://standrewsc.org/event/community-cafe-2/2028-05-11/
CATEGORIES:featured
END:VEVENT
BEGIN:VEVENT
DTSTART;TZID=America/New_York:20280518T170000
DTEND;TZID=America/New_York:20280518T190000
DTSTAMP:20260423T121626
CREATED:20260114T134143Z
LAST-MODIFIED:20260114T144817Z
UID:10005207-1842282000-1842289200@standrewsc.org
SUMMARY:Community Cafe
DESCRIPTION:Join us every Thursday for a free meal! \nDonations are accepted\, but never expected.
URL:https://standrewsc.org/event/community-cafe-2/2028-05-18/
CATEGORIES:featured
END:VEVENT
BEGIN:VEVENT
DTSTART;TZID=America/New_York:20280525T170000
DTEND;TZID=America/New_York:20280525T190000
DTSTAMP:20260423T121626
CREATED:20260114T134143Z
LAST-MODIFIED:20260114T144817Z
UID:10005208-1842886800-1842894000@standrewsc.org
SUMMARY:Community Cafe
DESCRIPTION:Join us every Thursday for a free meal! \nDonations are accepted\, but never expected.
URL:https://standrewsc.org/event/community-cafe-2/2028-05-25/
CATEGORIES:featured
END:VEVENT
BEGIN:VEVENT
DTSTART;TZID=America/New_York:20280601T170000
DTEND;TZID=America/New_York:20280601T190000
DTSTAMP:20260423T121626
CREATED:20260114T134143Z
LAST-MODIFIED:20260114T144817Z
UID:10005209-1843491600-1843498800@standrewsc.org
SUMMARY:Community Cafe
DESCRIPTION:Join us every Thursday for a free meal! \nDonations are accepted\, but never expected.
URL:https://standrewsc.org/event/community-cafe-2/2028-06-01/
CATEGORIES:featured
END:VEVENT
BEGIN:VEVENT
DTSTART;TZID=America/New_York:20280608T170000
DTEND;TZID=America/New_York:20280608T190000
DTSTAMP:20260423T121626
CREATED:20260114T134143Z
LAST-MODIFIED:20260114T144817Z
UID:10005210-1844096400-1844103600@standrewsc.org
SUMMARY:Community Cafe
DESCRIPTION:Join us every Thursday for a free meal! \nDonations are accepted\, but never expected.
URL:https://standrewsc.org/event/community-cafe-2/2028-06-08/
CATEGORIES:featured
END:VEVENT
BEGIN:VEVENT
DTSTART;TZID=America/New_York:20280615T170000
DTEND;TZID=America/New_York:20280615T190000
DTSTAMP:20260423T121626
CREATED:20260114T134143Z
LAST-MODIFIED:20260114T144817Z
UID:10005211-1844701200-1844708400@standrewsc.org
SUMMARY:Community Cafe
DESCRIPTION:Join us every Thursday for a free meal! \nDonations are accepted\, but never expected.
URL:https://standrewsc.org/event/community-cafe-2/2028-06-15/
CATEGORIES:featured
END:VEVENT
BEGIN:VEVENT
DTSTART;TZID=America/New_York:20280622T170000
DTEND;TZID=America/New_York:20280622T190000
DTSTAMP:20260423T121626
CREATED:20260114T134143Z
LAST-MODIFIED:20260114T144817Z
UID:10005212-1845306000-1845313200@standrewsc.org
SUMMARY:Community Cafe
DESCRIPTION:Join us every Thursday for a free meal! \nDonations are accepted\, but never expected.
URL:https://standrewsc.org/event/community-cafe-2/2028-06-22/
CATEGORIES:featured
END:VEVENT
BEGIN:VEVENT
DTSTART;TZID=America/New_York:20280629T170000
DTEND;TZID=America/New_York:20280629T190000
DTSTAMP:20260423T121626
CREATED:20260114T134143Z
LAST-MODIFIED:20260114T144817Z
UID:10005213-1845910800-1845918000@standrewsc.org
SUMMARY:Community Cafe
DESCRIPTION:Join us every Thursday for a free meal! \nDonations are accepted\, but never expected.
URL:https://standrewsc.org/event/community-cafe-2/2028-06-29/
CATEGORIES:featured
END:VEVENT
BEGIN:VEVENT
DTSTART;TZID=America/New_York:20280706T170000
DTEND;TZID=America/New_York:20280706T190000
DTSTAMP:20260423T121626
CREATED:20260114T134143Z
LAST-MODIFIED:20260114T144817Z
UID:10005214-1846515600-1846522800@standrewsc.org
SUMMARY:Community Cafe
DESCRIPTION:Join us every Thursday for a free meal! \nDonations are accepted\, but never expected.
URL:https://standrewsc.org/event/community-cafe-2/2028-07-06/
CATEGORIES:featured
END:VEVENT
BEGIN:VEVENT
DTSTART;TZID=America/New_York:20280713T170000
DTEND;TZID=America/New_York:20280713T190000
DTSTAMP:20260423T121626
CREATED:20260114T134143Z
LAST-MODIFIED:20260114T144817Z
UID:10005215-1847120400-1847127600@standrewsc.org
SUMMARY:Community Cafe
DESCRIPTION:Join us every Thursday for a free meal! \nDonations are accepted\, but never expected.
URL:https://standrewsc.org/event/community-cafe-2/2028-07-13/
CATEGORIES:featured
END:VEVENT
BEGIN:VEVENT
DTSTART;TZID=America/New_York:20280720T170000
DTEND;TZID=America/New_York:20280720T190000
DTSTAMP:20260423T121627
CREATED:20260114T134143Z
LAST-MODIFIED:20260114T144817Z
UID:10005216-1847725200-1847732400@standrewsc.org
SUMMARY:Community Cafe
DESCRIPTION:Join us every Thursday for a free meal! \nDonations are accepted\, but never expected.
URL:https://standrewsc.org/event/community-cafe-2/2028-07-20/
CATEGORIES:featured
END:VEVENT
BEGIN:VEVENT
DTSTART;TZID=America/New_York:20280727T170000
DTEND;TZID=America/New_York:20280727T190000
DTSTAMP:20260423T121627
CREATED:20260114T134143Z
LAST-MODIFIED:20260114T144817Z
UID:10005217-1848330000-1848337200@standrewsc.org
SUMMARY:Community Cafe
DESCRIPTION:Join us every Thursday for a free meal! \nDonations are accepted\, but never expected.
URL:https://standrewsc.org/event/community-cafe-2/2028-07-27/
CATEGORIES:featured
END:VEVENT
BEGIN:VEVENT
DTSTART;TZID=America/New_York:20280803T170000
DTEND;TZID=America/New_York:20280803T190000
DTSTAMP:20260423T121627
CREATED:20260114T134143Z
LAST-MODIFIED:20260114T144817Z
UID:10005218-1848934800-1848942000@standrewsc.org
SUMMARY:Community Cafe
DESCRIPTION:Join us every Thursday for a free meal! \nDonations are accepted\, but never expected.
URL:https://standrewsc.org/event/community-cafe-2/2028-08-03/
CATEGORIES:featured
END:VEVENT
BEGIN:VEVENT
DTSTART;TZID=America/New_York:20280810T170000
DTEND;TZID=America/New_York:20280810T190000
DTSTAMP:20260423T121627
CREATED:20260114T134143Z
LAST-MODIFIED:20260114T144817Z
UID:10005219-1849539600-1849546800@standrewsc.org
SUMMARY:Community Cafe
DESCRIPTION:Join us every Thursday for a free meal! \nDonations are accepted\, but never expected.
URL:https://standrewsc.org/event/community-cafe-2/2028-08-10/
CATEGORIES:featured
END:VEVENT
BEGIN:VEVENT
DTSTART;TZID=America/New_York:20280817T170000
DTEND;TZID=America/New_York:20280817T190000
DTSTAMP:20260423T121627
CREATED:20260114T134143Z
LAST-MODIFIED:20260114T144817Z
UID:10005220-1850144400-1850151600@standrewsc.org
SUMMARY:Community Cafe
DESCRIPTION:Join us every Thursday for a free meal! \nDonations are accepted\, but never expected.
URL:https://standrewsc.org/event/community-cafe-2/2028-08-17/
CATEGORIES:featured
END:VEVENT
BEGIN:VEVENT
DTSTART;TZID=America/New_York:20280824T170000
DTEND;TZID=America/New_York:20280824T190000
DTSTAMP:20260423T121627
CREATED:20260114T134143Z
LAST-MODIFIED:20260114T144817Z
UID:10005221-1850749200-1850756400@standrewsc.org
SUMMARY:Community Cafe
DESCRIPTION:Join us every Thursday for a free meal! \nDonations are accepted\, but never expected.
URL:https://standrewsc.org/event/community-cafe-2/2028-08-24/
CATEGORIES:featured
END:VEVENT
BEGIN:VEVENT
DTSTART;TZID=America/New_York:20280831T170000
DTEND;TZID=America/New_York:20280831T190000
DTSTAMP:20260423T121627
CREATED:20260114T134143Z
LAST-MODIFIED:20260114T144817Z
UID:10005222-1851354000-1851361200@standrewsc.org
SUMMARY:Community Cafe
DESCRIPTION:Join us every Thursday for a free meal! \nDonations are accepted\, but never expected.
URL:https://standrewsc.org/event/community-cafe-2/2028-08-31/
CATEGORIES:featured
END:VEVENT
BEGIN:VEVENT
DTSTART;TZID=America/New_York:20280907T170000
DTEND;TZID=America/New_York:20280907T190000
DTSTAMP:20260423T121627
CREATED:20260114T134143Z
LAST-MODIFIED:20260114T144817Z
UID:10005223-1851958800-1851966000@standrewsc.org
SUMMARY:Community Cafe
DESCRIPTION:Join us every Thursday for a free meal! \nDonations are accepted\, but never expected.
URL:https://standrewsc.org/event/community-cafe-2/2028-09-07/
CATEGORIES:featured
END:VEVENT
END:VCALENDAR