BEGIN:VCALENDAR
VERSION:2.0
PRODID:-//Saint Andrews Episcopal Church - State College, PA - ECPv6.15.14//NONSGML v1.0//EN
CALSCALE:GREGORIAN
METHOD:PUBLISH
X-ORIGINAL-URL:https://standrewsc.org
X-WR-CALDESC:Events for Saint Andrews Episcopal Church - State College, PA
REFRESH-INTERVAL;VALUE=DURATION:PT1H
X-Robots-Tag:noindex
X-PUBLISHED-TTL:PT1H
BEGIN:VTIMEZONE
TZID:America/New_York
BEGIN:DAYLIGHT
TZOFFSETFROM:-0500
TZOFFSETTO:-0400
TZNAME:EDT
DTSTART:20250309T070000
END:DAYLIGHT
BEGIN:STANDARD
TZOFFSETFROM:-0400
TZOFFSETTO:-0500
TZNAME:EST
DTSTART:20251102T060000
END:STANDARD
BEGIN:DAYLIGHT
TZOFFSETFROM:-0500
TZOFFSETTO:-0400
TZNAME:EDT
DTSTART:20260308T070000
END:DAYLIGHT
BEGIN:STANDARD
TZOFFSETFROM:-0400
TZOFFSETTO:-0500
TZNAME:EST
DTSTART:20261101T060000
END:STANDARD
BEGIN:DAYLIGHT
TZOFFSETFROM:-0500
TZOFFSETTO:-0400
TZNAME:EDT
DTSTART:20270314T070000
END:DAYLIGHT
BEGIN:STANDARD
TZOFFSETFROM:-0400
TZOFFSETTO:-0500
TZNAME:EST
DTSTART:20271107T060000
END:STANDARD
END:VTIMEZONE
BEGIN:VEVENT
DTSTART;TZID=America/New_York:20260427T190000
DTEND;TZID=America/New_York:20260427T190000
DTSTAMP:20260425T062741
CREATED:20260327T135829Z
LAST-MODIFIED:20260327T135829Z
UID:10006526-1777316400-1777316400@standrewsc.org
SUMMARY:Book Group
DESCRIPTION:The Book Group will meet MONDAY\, April 27\, to discuss The Secret History\, by Donna Tartt. \nThe Secret History is the first novel by Donna Tartt. Published in 1992\, it tells the story of a closely knit group of six Classics students at a small\, elite liberal arts college in Vermont. \nThe Secret History is an inverted detective story narrated by one of the six students\, Richard Papen\, who reflects years later upon the situation that led to the murder of their friend Edmund “Bunny” Corcoran. The events leading up to the murder are revealed sequentially. It has been credited with originating the dark academia literary sub-genre. \nThe Book Group is open to all and newcomers and guests are always welcome.
URL:https://standrewsc.org/event/book-group-2/
CATEGORIES:featured
END:VEVENT
END:VCALENDAR