BEGIN:VCALENDAR
VERSION:2.0
PRODID:-//Saint Andrews Episcopal Church - State College, PA - ECPv6.15.14//NONSGML v1.0//EN
CALSCALE:GREGORIAN
METHOD:PUBLISH
X-ORIGINAL-URL:https://standrewsc.org
X-WR-CALDESC:Events for Saint Andrews Episcopal Church - State College, PA
REFRESH-INTERVAL;VALUE=DURATION:PT1H
X-Robots-Tag:noindex
X-PUBLISHED-TTL:PT1H
BEGIN:VTIMEZONE
TZID:America/New_York
BEGIN:DAYLIGHT
TZOFFSETFROM:-0500
TZOFFSETTO:-0400
TZNAME:EDT
DTSTART:20250309T070000
END:DAYLIGHT
BEGIN:STANDARD
TZOFFSETFROM:-0400
TZOFFSETTO:-0500
TZNAME:EST
DTSTART:20251102T060000
END:STANDARD
BEGIN:DAYLIGHT
TZOFFSETFROM:-0500
TZOFFSETTO:-0400
TZNAME:EDT
DTSTART:20260308T070000
END:DAYLIGHT
BEGIN:STANDARD
TZOFFSETFROM:-0400
TZOFFSETTO:-0500
TZNAME:EST
DTSTART:20261101T060000
END:STANDARD
BEGIN:DAYLIGHT
TZOFFSETFROM:-0500
TZOFFSETTO:-0400
TZNAME:EDT
DTSTART:20270314T070000
END:DAYLIGHT
BEGIN:STANDARD
TZOFFSETFROM:-0400
TZOFFSETTO:-0500
TZNAME:EST
DTSTART:20271107T060000
END:STANDARD
END:VTIMEZONE
BEGIN:VEVENT
DTSTART;TZID=America/New_York:20260322T090000
DTEND;TZID=America/New_York:20260322T094500
DTSTAMP:20260423T043320
CREATED:20260309T132054Z
LAST-MODIFIED:20260309T132054Z
UID:10006524-1774170000-1774172700@standrewsc.org
SUMMARY:Adult Forum
DESCRIPTION:Discussion of Friday Film Shadowlands\, which will be shown on Friday\, March 20 at 7 p.m. in Canterbury Hall
URL:https://standrewsc.org/event/adult-forum-7/
CATEGORIES:featured
END:VEVENT
BEGIN:VEVENT
DTSTART;TZID=America/New_York:20260322T193000
DTEND;TZID=America/New_York:20260322T193000
DTSTAMP:20260423T043320
CREATED:20260309T130713Z
LAST-MODIFIED:20260309T130713Z
UID:10006515-1774207800-1774207800@standrewsc.org
SUMMARY:Lenten Bible Study
DESCRIPTION:The Daughters of the King chapter at St. Andrew’s will be holding a Lenten Bible Study on four women of the Bible on Sunday evenings at 7:30 p.m. on Zoom. We\nwill start on Sunday\, February 22\, with Eve\, followed by Esther on March 1\, Ruth on March 15\, and Mary Magdalene on March 22.\nAll members of the parish are welcome to participate. Please contact Kitty Mussett at kam13@psu.edu with questions or to obtain the Zoom link.
URL:https://standrewsc.org/event/lenten-bible-study/2026-03-22/
CATEGORIES:featured
END:VEVENT
BEGIN:VEVENT
DTSTART;TZID=America/New_York:20260322T193000
DTEND;TZID=America/New_York:20260322T193000
DTSTAMP:20260423T043320
CREATED:20260313T112850Z
LAST-MODIFIED:20260313T112850Z
UID:10006525-1774207800-1774207800@standrewsc.org
SUMMARY:Sung Compline
DESCRIPTION:Please join us for this beautiful and contemplative service offered by the PSU Choral Scholars.
URL:https://standrewsc.org/event/sung-compline-2/
CATEGORIES:Church,featured
END:VEVENT
END:VCALENDAR