BEGIN:VCALENDAR
VERSION:2.0
PRODID:-//Saint Andrews Episcopal Church - State College, PA - ECPv6.15.14//NONSGML v1.0//EN
CALSCALE:GREGORIAN
METHOD:PUBLISH
X-WR-CALNAME:Saint Andrews Episcopal Church - State College, PA
X-ORIGINAL-URL:https://standrewsc.org
X-WR-CALDESC:Events for Saint Andrews Episcopal Church - State College, PA
REFRESH-INTERVAL;VALUE=DURATION:PT1H
X-Robots-Tag:noindex
X-PUBLISHED-TTL:PT1H
BEGIN:VTIMEZONE
TZID:America/New_York
BEGIN:DAYLIGHT
TZOFFSETFROM:-0500
TZOFFSETTO:-0400
TZNAME:EDT
DTSTART:20250309T070000
END:DAYLIGHT
BEGIN:STANDARD
TZOFFSETFROM:-0400
TZOFFSETTO:-0500
TZNAME:EST
DTSTART:20251102T060000
END:STANDARD
BEGIN:DAYLIGHT
TZOFFSETFROM:-0500
TZOFFSETTO:-0400
TZNAME:EDT
DTSTART:20260308T070000
END:DAYLIGHT
BEGIN:STANDARD
TZOFFSETFROM:-0400
TZOFFSETTO:-0500
TZNAME:EST
DTSTART:20261101T060000
END:STANDARD
BEGIN:DAYLIGHT
TZOFFSETFROM:-0500
TZOFFSETTO:-0400
TZNAME:EDT
DTSTART:20270314T070000
END:DAYLIGHT
BEGIN:STANDARD
TZOFFSETFROM:-0400
TZOFFSETTO:-0500
TZNAME:EST
DTSTART:20271107T060000
END:STANDARD
END:VTIMEZONE
BEGIN:VEVENT
DTSTART;TZID=America/New_York:20260320T171500
DTEND;TZID=America/New_York:20260320T174500
DTSTAMP:20260425T073538
CREATED:20260206T161417Z
LAST-MODIFIED:20260206T161903Z
UID:10006422-1774026900-1774028700@standrewsc.org
SUMMARY:Stations of the Cross
DESCRIPTION:
URL:https://standrewsc.org/event/stations-of-the-cross/2026-03-20/
CATEGORIES:Church,featured
END:VEVENT
BEGIN:VEVENT
DTSTART;TZID=America/New_York:20260320T183000
DTEND;TZID=America/New_York:20260320T183000
DTSTAMP:20260425T073538
CREATED:20260309T130520Z
LAST-MODIFIED:20260309T130520Z
UID:10006513-1774031400-1774031400@standrewsc.org
SUMMARY:Friday Film
DESCRIPTION:Friday Films will present Shadowlands on Friday\, March 20 at 7 p.m. in Canterbury Hall. The 1993 film is loosely based on the book A Grief Observed by C.S. Lewis. It depicts the relationship between Lewis and Jewish American poet Joy Davidman and how her death from cancer challenged his Christianity. \nAdult Forum on Sunday\, March 22\, will be a discussion of the film and the issues it explores.\nSnacks start at 6:30\, admission is free\, all are welcome.
URL:https://standrewsc.org/event/friday-film-3/
CATEGORIES:featured
END:VEVENT
END:VCALENDAR