BEGIN:VCALENDAR
VERSION:2.0
PRODID:-//Saint Andrews Episcopal Church - State College, PA - ECPv6.15.14//NONSGML v1.0//EN
CALSCALE:GREGORIAN
METHOD:PUBLISH
X-ORIGINAL-URL:https://standrewsc.org
X-WR-CALDESC:Events for Saint Andrews Episcopal Church - State College, PA
REFRESH-INTERVAL;VALUE=DURATION:PT1H
X-Robots-Tag:noindex
X-PUBLISHED-TTL:PT1H
BEGIN:VTIMEZONE
TZID:America/New_York
BEGIN:DAYLIGHT
TZOFFSETFROM:-0500
TZOFFSETTO:-0400
TZNAME:EDT
DTSTART:20250309T070000
END:DAYLIGHT
BEGIN:STANDARD
TZOFFSETFROM:-0400
TZOFFSETTO:-0500
TZNAME:EST
DTSTART:20251102T060000
END:STANDARD
BEGIN:DAYLIGHT
TZOFFSETFROM:-0500
TZOFFSETTO:-0400
TZNAME:EDT
DTSTART:20260308T070000
END:DAYLIGHT
BEGIN:STANDARD
TZOFFSETFROM:-0400
TZOFFSETTO:-0500
TZNAME:EST
DTSTART:20261101T060000
END:STANDARD
BEGIN:DAYLIGHT
TZOFFSETFROM:-0500
TZOFFSETTO:-0400
TZNAME:EDT
DTSTART:20270314T070000
END:DAYLIGHT
BEGIN:STANDARD
TZOFFSETFROM:-0400
TZOFFSETTO:-0500
TZNAME:EST
DTSTART:20271107T060000
END:STANDARD
END:VTIMEZONE
BEGIN:VEVENT
DTSTART;TZID=America/New_York:20260314T110000
DTEND;TZID=America/New_York:20260314T123000
DTSTAMP:20260421T145757
CREATED:20260306T125619Z
LAST-MODIFIED:20260306T125619Z
UID:10006492-1773486000-1773491400@standrewsc.org
SUMMARY:Everything You Ever Wanted to Know About the Episcopal Church ...But Were Afraid to Ask
DESCRIPTION:Everyone is invited to join Fr. Jeff and the Adult Confirmation Class for a fun and informative session covering topics such as architecture\, obscure titles in the church—what is a Right Reverend Most Honorable anyway?—and the names for all the stuff we use during worship. \nNo need to pre-register\, just show up. There will be lots of opportunity to ask your own burning questions. What have you always wanted to know?
URL:https://standrewsc.org/event/everything-you-ever-wanted-to-know-about-the-episcopal-church-but-were-afraid-to-ask/
CATEGORIES:featured
END:VEVENT
END:VCALENDAR