BEGIN:VCALENDAR
VERSION:2.0
PRODID:-//Saint Andrews Episcopal Church - State College, PA - ECPv6.15.14//NONSGML v1.0//EN
CALSCALE:GREGORIAN
METHOD:PUBLISH
X-WR-CALNAME:Saint Andrews Episcopal Church - State College, PA
X-ORIGINAL-URL:https://standrewsc.org
X-WR-CALDESC:Events for Saint Andrews Episcopal Church - State College, PA
REFRESH-INTERVAL;VALUE=DURATION:PT1H
X-Robots-Tag:noindex
X-PUBLISHED-TTL:PT1H
BEGIN:VTIMEZONE
TZID:America/New_York
BEGIN:DAYLIGHT
TZOFFSETFROM:-0500
TZOFFSETTO:-0400
TZNAME:EDT
DTSTART:20250309T070000
END:DAYLIGHT
BEGIN:STANDARD
TZOFFSETFROM:-0400
TZOFFSETTO:-0500
TZNAME:EST
DTSTART:20251102T060000
END:STANDARD
BEGIN:DAYLIGHT
TZOFFSETFROM:-0500
TZOFFSETTO:-0400
TZNAME:EDT
DTSTART:20260308T070000
END:DAYLIGHT
BEGIN:STANDARD
TZOFFSETFROM:-0400
TZOFFSETTO:-0500
TZNAME:EST
DTSTART:20261101T060000
END:STANDARD
BEGIN:DAYLIGHT
TZOFFSETFROM:-0500
TZOFFSETTO:-0400
TZNAME:EDT
DTSTART:20270314T070000
END:DAYLIGHT
BEGIN:STANDARD
TZOFFSETFROM:-0400
TZOFFSETTO:-0500
TZNAME:EST
DTSTART:20271107T060000
END:STANDARD
END:VTIMEZONE
BEGIN:VEVENT
DTSTART;VALUE=DATE:20260308
DTEND;VALUE=DATE:20260309
DTSTAMP:20260421T150158
CREATED:20260213T120635Z
LAST-MODIFIED:20260213T120635Z
UID:10006480-1772928000-1773014399@standrewsc.org
SUMMARY:Bishop's Visitation
DESCRIPTION:On Sunday\, March 8\, the Rt. Rev. Dr. Audrey C. Scanlan\, the bishop of the Diocese of the Susquehanna\, will make her official episcopal visitation to St. Andrew’s. She will preach and celebrate at the two morning services\, and she will celebrate confirmations. The 10:00 service will be followed by a reception in Canterbury Hall. Come support those who will be confirmed and welcome Bishop Scanlan!
URL:https://standrewsc.org/event/bishops-visitation/
CATEGORIES:featured
END:VEVENT
BEGIN:VEVENT
DTSTART;TZID=America/New_York:20260308T090000
DTEND;TZID=America/New_York:20260308T094500
DTSTAMP:20260421T150158
CREATED:20260306T125453Z
LAST-MODIFIED:20260306T125518Z
UID:10006491-1772960400-1772963100@standrewsc.org
SUMMARY:Adult Forum
DESCRIPTION:Bishop Audrey Scanlan will be our speaker at Adult Forum.
URL:https://standrewsc.org/event/adult-forum-6/
CATEGORIES:featured
END:VEVENT
END:VCALENDAR