BEGIN:VCALENDAR
VERSION:2.0
PRODID:-//Saint Andrews Episcopal Church - State College, PA - ECPv6.15.14//NONSGML v1.0//EN
CALSCALE:GREGORIAN
METHOD:PUBLISH
X-ORIGINAL-URL:https://standrewsc.org
X-WR-CALDESC:Events for Saint Andrews Episcopal Church - State College, PA
REFRESH-INTERVAL;VALUE=DURATION:PT1H
X-Robots-Tag:noindex
X-PUBLISHED-TTL:PT1H
BEGIN:VTIMEZONE
TZID:America/New_York
BEGIN:DAYLIGHT
TZOFFSETFROM:-0500
TZOFFSETTO:-0400
TZNAME:EDT
DTSTART:20250309T070000
END:DAYLIGHT
BEGIN:STANDARD
TZOFFSETFROM:-0400
TZOFFSETTO:-0500
TZNAME:EST
DTSTART:20251102T060000
END:STANDARD
BEGIN:DAYLIGHT
TZOFFSETFROM:-0500
TZOFFSETTO:-0400
TZNAME:EDT
DTSTART:20260308T070000
END:DAYLIGHT
BEGIN:STANDARD
TZOFFSETFROM:-0400
TZOFFSETTO:-0500
TZNAME:EST
DTSTART:20261101T060000
END:STANDARD
BEGIN:DAYLIGHT
TZOFFSETFROM:-0500
TZOFFSETTO:-0400
TZNAME:EDT
DTSTART:20270314T070000
END:DAYLIGHT
BEGIN:STANDARD
TZOFFSETFROM:-0400
TZOFFSETTO:-0500
TZNAME:EST
DTSTART:20271107T060000
END:STANDARD
END:VTIMEZONE
BEGIN:VEVENT
DTSTART;TZID=America/New_York:20260224T190000
DTEND;TZID=America/New_York:20260224T190000
DTSTAMP:20260421T145718
CREATED:20260129T230911Z
LAST-MODIFIED:20260129T230911Z
UID:10006153-1771959600-1771959600@standrewsc.org
SUMMARY:Book Club
DESCRIPTION:The Book Club will meet on Tuesday\, February 24\, at 7 p.m. in Room 324 to discuss Eileen Garvin’s Crow Talk. \nThe book\, described as “an achingly beautiful story of love\, grief\, friendship\, and the healing power of nature in the darkest of times.” has also been selected as the 2026 Centre County Reads book. As part of that program\, Schlow Library will host a talk with the author on April 1. Members of the Book Club may attend as a group. \nNewcomers and guests are always welcome.
URL:https://standrewsc.org/event/book-club-2/
CATEGORIES:featured
END:VEVENT
END:VCALENDAR