BEGIN:VCALENDAR
VERSION:2.0
PRODID:-//Saint Andrews Episcopal Church - State College, PA - ECPv6.15.14//NONSGML v1.0//EN
CALSCALE:GREGORIAN
METHOD:PUBLISH
X-ORIGINAL-URL:https://standrewsc.org
X-WR-CALDESC:Events for Saint Andrews Episcopal Church - State College, PA
REFRESH-INTERVAL;VALUE=DURATION:PT1H
X-Robots-Tag:noindex
X-PUBLISHED-TTL:PT1H
BEGIN:VTIMEZONE
TZID:America/New_York
BEGIN:DAYLIGHT
TZOFFSETFROM:-0500
TZOFFSETTO:-0400
TZNAME:EDT
DTSTART:20250309T070000
END:DAYLIGHT
BEGIN:STANDARD
TZOFFSETFROM:-0400
TZOFFSETTO:-0500
TZNAME:EST
DTSTART:20251102T060000
END:STANDARD
BEGIN:DAYLIGHT
TZOFFSETFROM:-0500
TZOFFSETTO:-0400
TZNAME:EDT
DTSTART:20260308T070000
END:DAYLIGHT
BEGIN:STANDARD
TZOFFSETFROM:-0400
TZOFFSETTO:-0500
TZNAME:EST
DTSTART:20261101T060000
END:STANDARD
BEGIN:DAYLIGHT
TZOFFSETFROM:-0500
TZOFFSETTO:-0400
TZNAME:EDT
DTSTART:20270314T070000
END:DAYLIGHT
BEGIN:STANDARD
TZOFFSETFROM:-0400
TZOFFSETTO:-0500
TZNAME:EST
DTSTART:20271107T060000
END:STANDARD
END:VTIMEZONE
BEGIN:VEVENT
DTSTART;TZID=America/New_York:20260213T190000
DTEND;TZID=America/New_York:20260213T210000
DTSTAMP:20260421T164335
CREATED:20260114T144550Z
LAST-MODIFIED:20260114T144550Z
UID:10006146-1771009200-1771016400@standrewsc.org
SUMMARY:Poetry Open Mic
DESCRIPTION:Friday\, February 13\, from 7 to 9 p.m.\, we will gather in Room 325 for an open mic poetry reading. Bring your own work and share it! \nThis event is separate from our annual poetry contest. It is open to anyone and everyone. Time will be limited for each poet to read\, based on the number who show up. Light refreshments will be provided. \nShare this with anyone you know who likes to write and join us for a relaxed\, informal evening of poetry.
URL:https://standrewsc.org/event/poetry-open-mic/
CATEGORIES:featured
END:VEVENT
END:VCALENDAR