BEGIN:VCALENDAR
VERSION:2.0
PRODID:-//Saint Andrews Episcopal Church - State College, PA - ECPv6.15.14//NONSGML v1.0//EN
CALSCALE:GREGORIAN
METHOD:PUBLISH
X-WR-CALNAME:Saint Andrews Episcopal Church - State College, PA
X-ORIGINAL-URL:https://standrewsc.org
X-WR-CALDESC:Events for Saint Andrews Episcopal Church - State College, PA
REFRESH-INTERVAL;VALUE=DURATION:PT1H
X-Robots-Tag:noindex
X-PUBLISHED-TTL:PT1H
BEGIN:VTIMEZONE
TZID:America/New_York
BEGIN:DAYLIGHT
TZOFFSETFROM:-0500
TZOFFSETTO:-0400
TZNAME:EDT
DTSTART:20250309T070000
END:DAYLIGHT
BEGIN:STANDARD
TZOFFSETFROM:-0400
TZOFFSETTO:-0500
TZNAME:EST
DTSTART:20251102T060000
END:STANDARD
BEGIN:DAYLIGHT
TZOFFSETFROM:-0500
TZOFFSETTO:-0400
TZNAME:EDT
DTSTART:20260308T070000
END:DAYLIGHT
BEGIN:STANDARD
TZOFFSETFROM:-0400
TZOFFSETTO:-0500
TZNAME:EST
DTSTART:20261101T060000
END:STANDARD
BEGIN:DAYLIGHT
TZOFFSETFROM:-0500
TZOFFSETTO:-0400
TZNAME:EDT
DTSTART:20270314T070000
END:DAYLIGHT
BEGIN:STANDARD
TZOFFSETFROM:-0400
TZOFFSETTO:-0500
TZNAME:EST
DTSTART:20271107T060000
END:STANDARD
END:VTIMEZONE
BEGIN:VEVENT
DTSTART;TZID=America/New_York:20260208T090000
DTEND;TZID=America/New_York:20260208T094500
DTSTAMP:20260423T133843
CREATED:20260206T160057Z
LAST-MODIFIED:20260206T160057Z
UID:10006155-1770541200-1770543900@standrewsc.org
SUMMARY:Adult Forum
DESCRIPTION:At Adult Forum this Sunday\, Amy Pritchett will present a video from the Church Unity Project\, a series of videos created by Matt Whitman\, a former pastor in the Evangelical Free Church of America. In the videos\, Matt “[goes] around to the churches of other historical\, orthodox\, creedal expressions of Christianity” to talk to the people there\, look at the places of worship\, and share what he learns about the differences and similarities between traditions. \nIn this week’s video\, Matt visits a Carmelite monastery\, learning about their unique charism of prayer\, meditation\, and study of the Word of God.
URL:https://standrewsc.org/event/adult-forum-2/
CATEGORIES:featured
END:VEVENT
END:VCALENDAR