BEGIN:VCALENDAR
VERSION:2.0
PRODID:-//Saint Andrews Episcopal Church - State College, PA - ECPv6.15.14//NONSGML v1.0//EN
CALSCALE:GREGORIAN
METHOD:PUBLISH
X-ORIGINAL-URL:https://standrewsc.org
X-WR-CALDESC:Events for Saint Andrews Episcopal Church - State College, PA
REFRESH-INTERVAL;VALUE=DURATION:PT1H
X-Robots-Tag:noindex
X-PUBLISHED-TTL:PT1H
BEGIN:VTIMEZONE
TZID:America/New_York
BEGIN:DAYLIGHT
TZOFFSETFROM:-0500
TZOFFSETTO:-0400
TZNAME:EDT
DTSTART:20250309T070000
END:DAYLIGHT
BEGIN:STANDARD
TZOFFSETFROM:-0400
TZOFFSETTO:-0500
TZNAME:EST
DTSTART:20251102T060000
END:STANDARD
BEGIN:DAYLIGHT
TZOFFSETFROM:-0500
TZOFFSETTO:-0400
TZNAME:EDT
DTSTART:20260308T070000
END:DAYLIGHT
BEGIN:STANDARD
TZOFFSETFROM:-0400
TZOFFSETTO:-0500
TZNAME:EST
DTSTART:20261101T060000
END:STANDARD
BEGIN:DAYLIGHT
TZOFFSETFROM:-0500
TZOFFSETTO:-0400
TZNAME:EDT
DTSTART:20270314T070000
END:DAYLIGHT
BEGIN:STANDARD
TZOFFSETFROM:-0400
TZOFFSETTO:-0500
TZNAME:EST
DTSTART:20271107T060000
END:STANDARD
END:VTIMEZONE
BEGIN:VEVENT
DTSTART;TZID=America/New_York:20260123T183000
DTEND;TZID=America/New_York:20260123T183000
DTSTAMP:20260425T163155
CREATED:20260114T143820Z
LAST-MODIFIED:20260116T212322Z
UID:10006142-1769193000-1769193000@standrewsc.org
SUMMARY:Friday Film
DESCRIPTION:On Friday\, January 23\, Friday Films will present the 1993 film\, What’s Eating Gilbert Grape\, starring Johnny Depp\, Leonardo DiCaprio\, Juliette Lewis\, Mary Steenbergen\, John C. Reilly\, and Crispin Glover. \n“There isn’t much for Gilbert to look forward to in the small\, dying town of Endora. The only thing keeping him sane is his mentally challenged brother\, and his physically challenged mother. Despite the challenges that are posed in this small town\, Gilbert had forgotten that he has become challenged himself and\, with the help of a marooned world traveler\, begins to see the bigger picture.” (IMDB) \nWe will gather at 6:30 p.m. for pizza and other refreshments. The film will start at 7 p.m. \nFriday Films are free and all are welcome.
URL:https://standrewsc.org/event/friday-film/
CATEGORIES:featured
END:VEVENT
END:VCALENDAR