BEGIN:VCALENDAR
VERSION:2.0
PRODID:-//Saint Andrews Episcopal Church - State College, PA - ECPv6.15.14//NONSGML v1.0//EN
CALSCALE:GREGORIAN
METHOD:PUBLISH
X-WR-CALNAME:Saint Andrews Episcopal Church - State College, PA
X-ORIGINAL-URL:https://standrewsc.org
X-WR-CALDESC:Events for Saint Andrews Episcopal Church - State College, PA
REFRESH-INTERVAL;VALUE=DURATION:PT1H
X-Robots-Tag:noindex
X-PUBLISHED-TTL:PT1H
BEGIN:VTIMEZONE
TZID:America/New_York
BEGIN:DAYLIGHT
TZOFFSETFROM:-0500
TZOFFSETTO:-0400
TZNAME:EDT
DTSTART:20250309T070000
END:DAYLIGHT
BEGIN:STANDARD
TZOFFSETFROM:-0400
TZOFFSETTO:-0500
TZNAME:EST
DTSTART:20251102T060000
END:STANDARD
BEGIN:DAYLIGHT
TZOFFSETFROM:-0500
TZOFFSETTO:-0400
TZNAME:EDT
DTSTART:20260308T070000
END:DAYLIGHT
BEGIN:STANDARD
TZOFFSETFROM:-0400
TZOFFSETTO:-0500
TZNAME:EST
DTSTART:20261101T060000
END:STANDARD
BEGIN:DAYLIGHT
TZOFFSETFROM:-0500
TZOFFSETTO:-0400
TZNAME:EDT
DTSTART:20270314T070000
END:DAYLIGHT
BEGIN:STANDARD
TZOFFSETFROM:-0400
TZOFFSETTO:-0500
TZNAME:EST
DTSTART:20271107T060000
END:STANDARD
END:VTIMEZONE
BEGIN:VEVENT
DTSTART;TZID=America/New_York:20260502T090000
DTEND;TZID=America/New_York:20260502T120000
DTSTAMP:20260421T131204
CREATED:20260410T125142Z
LAST-MODIFIED:20260410T125142Z
UID:10006530-1777712400-1777723200@standrewsc.org
SUMMARY:Spring Cleanup Day
DESCRIPTION:The Property Committee has scheduled a Spring Cleanup Day for Saturday\, May 2\, from 9 a.m. until noon. They plan to clean up the grounds around the church and Trinity House. \nExtra help is needed and any amount of time you can volunteer will be appreciated. If you have them\, please bring a rake or leaf blower to help clean up leaves. Coffee and donuts will be provided – and it’s fun! \nAny questions\, please contact Michael Skvarla at mskvarla36@gmail.com.
URL:https://standrewsc.org/event/spring-cleanup-day/
CATEGORIES:featured
END:VEVENT
BEGIN:VEVENT
DTSTART;TZID=America/New_York:20260503T111500
DTEND;TZID=America/New_York:20260503T113000
DTSTAMP:20260421T131204
CREATED:20260418T124044Z
LAST-MODIFIED:20260418T124044Z
UID:10006533-1777806900-1777807800@standrewsc.org
SUMMARY:Blessing of the Bikes
DESCRIPTION:Following the 10 a.m. service\, we will gather on the front lawn with our bikes for the blessing. Those who wish will then take a lap around the block\, and everyone is invited to enjoy coffee hour treats on the lawn.
URL:https://standrewsc.org/event/blessing-of-the-bikes/
CATEGORIES:featured
END:VEVENT
BEGIN:VEVENT
DTSTART;TZID=America/New_York:20260507T170000
DTEND;TZID=America/New_York:20260507T190000
DTSTAMP:20260421T131204
CREATED:20260114T134143Z
LAST-MODIFIED:20260114T144817Z
UID:10005101-1778173200-1778180400@standrewsc.org
SUMMARY:Community Cafe
DESCRIPTION:Join us every Thursday for a free meal! \nDonations are accepted\, but never expected.
URL:https://standrewsc.org/event/community-cafe-2/2026-05-07/
CATEGORIES:featured
END:VEVENT
BEGIN:VEVENT
DTSTART;TZID=America/New_York:20260514T170000
DTEND;TZID=America/New_York:20260514T190000
DTSTAMP:20260421T131204
CREATED:20260114T134143Z
LAST-MODIFIED:20260114T144817Z
UID:10005102-1778778000-1778785200@standrewsc.org
SUMMARY:Community Cafe
DESCRIPTION:Join us every Thursday for a free meal! \nDonations are accepted\, but never expected.
URL:https://standrewsc.org/event/community-cafe-2/2026-05-14/
CATEGORIES:featured
END:VEVENT
BEGIN:VEVENT
DTSTART;TZID=America/New_York:20260517T111500
DTEND;TZID=America/New_York:20260517T111500
DTSTAMP:20260421T131204
CREATED:20260411T142319Z
LAST-MODIFIED:20260411T142319Z
UID:10006532-1779016500-1779016500@standrewsc.org
SUMMARY:Planning and Development Workshop with Potluck Lunch
DESCRIPTION:Fr. Jeff and members of the Planning and Development Committee will offer the second of three workshop opportunities to learn about the plans for changes\, repairs\, and updates to our buildings and property and to share your ideas and feedback.
URL:https://standrewsc.org/event/planning-and-development-workshop-with-potluck-lunch/
CATEGORIES:featured
END:VEVENT
BEGIN:VEVENT
DTSTART;TZID=America/New_York:20260521T170000
DTEND;TZID=America/New_York:20260521T190000
DTSTAMP:20260421T131204
CREATED:20260114T134143Z
LAST-MODIFIED:20260114T144817Z
UID:10005103-1779382800-1779390000@standrewsc.org
SUMMARY:Community Cafe
DESCRIPTION:Join us every Thursday for a free meal! \nDonations are accepted\, but never expected.
URL:https://standrewsc.org/event/community-cafe-2/2026-05-21/
CATEGORIES:featured
END:VEVENT
BEGIN:VEVENT
DTSTART;TZID=America/New_York:20260528T170000
DTEND;TZID=America/New_York:20260528T190000
DTSTAMP:20260421T131204
CREATED:20260114T134143Z
LAST-MODIFIED:20260114T144817Z
UID:10005104-1779987600-1779994800@standrewsc.org
SUMMARY:Community Cafe
DESCRIPTION:Join us every Thursday for a free meal! \nDonations are accepted\, but never expected.
URL:https://standrewsc.org/event/community-cafe-2/2026-05-28/
CATEGORIES:featured
END:VEVENT
END:VCALENDAR