BEGIN:VCALENDAR
VERSION:2.0
PRODID:-//Saint Andrews Episcopal Church - State College, PA - ECPv6.15.14//NONSGML v1.0//EN
CALSCALE:GREGORIAN
METHOD:PUBLISH
X-WR-CALNAME:Saint Andrews Episcopal Church - State College, PA
X-ORIGINAL-URL:https://standrewsc.org
X-WR-CALDESC:Events for Saint Andrews Episcopal Church - State College, PA
REFRESH-INTERVAL;VALUE=DURATION:PT1H
X-Robots-Tag:noindex
X-PUBLISHED-TTL:PT1H
BEGIN:VTIMEZONE
TZID:America/New_York
BEGIN:DAYLIGHT
TZOFFSETFROM:-0500
TZOFFSETTO:-0400
TZNAME:EDT
DTSTART:20280312T070000
END:DAYLIGHT
BEGIN:STANDARD
TZOFFSETFROM:-0400
TZOFFSETTO:-0500
TZNAME:EST
DTSTART:20281105T060000
END:STANDARD
BEGIN:DAYLIGHT
TZOFFSETFROM:-0500
TZOFFSETTO:-0400
TZNAME:EDT
DTSTART:20290311T070000
END:DAYLIGHT
BEGIN:STANDARD
TZOFFSETFROM:-0400
TZOFFSETTO:-0500
TZNAME:EST
DTSTART:20291104T060000
END:STANDARD
BEGIN:DAYLIGHT
TZOFFSETFROM:-0500
TZOFFSETTO:-0400
TZNAME:EDT
DTSTART:20300310T070000
END:DAYLIGHT
BEGIN:STANDARD
TZOFFSETFROM:-0400
TZOFFSETTO:-0500
TZNAME:EST
DTSTART:20301103T060000
END:STANDARD
END:VTIMEZONE
BEGIN:VEVENT
DTSTART;TZID=America/New_York:20290701T170000
DTEND;TZID=America/New_York:20290701T180000
DTSTAMP:20260422T093044
CREATED:20260114T134806Z
LAST-MODIFIED:20260114T135320Z
UID:10005526-1877619600-1877623200@standrewsc.org
SUMMARY:Holy Eucharist\, Rite II
DESCRIPTION:Casual worship service with contemporary praise music\, led by our worship band.
URL:https://standrewsc.org/event/holy-eucharist-rite-ii/2029-07-01/
LOCATION:St. Andrew’s Episcopal Church\, 208 West Foster Avenue\, State College\, PA\, 16801\, United States
CATEGORIES:Church
GEO:40.7911417;-77.8601015
X-APPLE-STRUCTURED-LOCATION;VALUE=URI;X-ADDRESS=St. Andrew’s Episcopal Church 208 West Foster Avenue State College PA 16801 United States;X-APPLE-RADIUS=500;X-TITLE=208 West Foster Avenue:geo:-77.8601015,40.7911417
END:VEVENT
BEGIN:VEVENT
DTSTART;TZID=America/New_York:20290708T080000
DTEND;TZID=America/New_York:20290708T080000
DTSTAMP:20260422T093044
CREATED:20260114T135025Z
LAST-MODIFIED:20260114T135348Z
UID:10005788-1878192000-1878192000@standrewsc.org
SUMMARY:Holy Eucharist\, Rite I
DESCRIPTION:Join us for our usual Rite I Spoken Eucharist\, followed by Continental Breakfast in Room 325.
URL:https://standrewsc.org/event/holy-eucharist-rite-i/2029-07-08/
CATEGORIES:Church
END:VEVENT
BEGIN:VEVENT
DTSTART;TZID=America/New_York:20290708T100000
DTEND;TZID=America/New_York:20290708T100000
DTSTAMP:20260422T093044
CREATED:20260114T135244Z
LAST-MODIFIED:20260114T135258Z
UID:10006049-1878199200-1878199200@standrewsc.org
SUMMARY:Holy Eucharist\, Rite II\, In-person and on Facebook Live
DESCRIPTION:Join us either in-person or on Facebook Live for our principal weekly worship service.
URL:https://standrewsc.org/event/holy-eucharist-rite-ii-in-person-and-on-facebook-live/2029-07-08/
LOCATION:St. Andrew’s Episcopal Church\, 208 West Foster Avenue\, State College\, PA\, 16801\, United States
CATEGORIES:Church
GEO:40.7911417;-77.8601015
X-APPLE-STRUCTURED-LOCATION;VALUE=URI;X-ADDRESS=St. Andrew’s Episcopal Church 208 West Foster Avenue State College PA 16801 United States;X-APPLE-RADIUS=500;X-TITLE=208 West Foster Avenue:geo:-77.8601015,40.7911417
END:VEVENT
BEGIN:VEVENT
DTSTART;TZID=America/New_York:20290708T170000
DTEND;TZID=America/New_York:20290708T180000
DTSTAMP:20260422T093044
CREATED:20260114T134806Z
LAST-MODIFIED:20260114T135320Z
UID:10005527-1878224400-1878228000@standrewsc.org
SUMMARY:Holy Eucharist\, Rite II
DESCRIPTION:Casual worship service with contemporary praise music\, led by our worship band.
URL:https://standrewsc.org/event/holy-eucharist-rite-ii/2029-07-08/
LOCATION:St. Andrew’s Episcopal Church\, 208 West Foster Avenue\, State College\, PA\, 16801\, United States
CATEGORIES:Church
GEO:40.7911417;-77.8601015
X-APPLE-STRUCTURED-LOCATION;VALUE=URI;X-ADDRESS=St. Andrew’s Episcopal Church 208 West Foster Avenue State College PA 16801 United States;X-APPLE-RADIUS=500;X-TITLE=208 West Foster Avenue:geo:-77.8601015,40.7911417
END:VEVENT
BEGIN:VEVENT
DTSTART;TZID=America/New_York:20290715T080000
DTEND;TZID=America/New_York:20290715T080000
DTSTAMP:20260422T093044
CREATED:20260114T135025Z
LAST-MODIFIED:20260114T135348Z
UID:10005789-1878796800-1878796800@standrewsc.org
SUMMARY:Holy Eucharist\, Rite I
DESCRIPTION:Join us for our usual Rite I Spoken Eucharist\, followed by Continental Breakfast in Room 325.
URL:https://standrewsc.org/event/holy-eucharist-rite-i/2029-07-15/
CATEGORIES:Church
END:VEVENT
BEGIN:VEVENT
DTSTART;TZID=America/New_York:20290715T100000
DTEND;TZID=America/New_York:20290715T100000
DTSTAMP:20260422T093044
CREATED:20260114T135244Z
LAST-MODIFIED:20260114T135258Z
UID:10006050-1878804000-1878804000@standrewsc.org
SUMMARY:Holy Eucharist\, Rite II\, In-person and on Facebook Live
DESCRIPTION:Join us either in-person or on Facebook Live for our principal weekly worship service.
URL:https://standrewsc.org/event/holy-eucharist-rite-ii-in-person-and-on-facebook-live/2029-07-15/
LOCATION:St. Andrew’s Episcopal Church\, 208 West Foster Avenue\, State College\, PA\, 16801\, United States
CATEGORIES:Church
GEO:40.7911417;-77.8601015
X-APPLE-STRUCTURED-LOCATION;VALUE=URI;X-ADDRESS=St. Andrew’s Episcopal Church 208 West Foster Avenue State College PA 16801 United States;X-APPLE-RADIUS=500;X-TITLE=208 West Foster Avenue:geo:-77.8601015,40.7911417
END:VEVENT
BEGIN:VEVENT
DTSTART;TZID=America/New_York:20290715T170000
DTEND;TZID=America/New_York:20290715T180000
DTSTAMP:20260422T093044
CREATED:20260114T134806Z
LAST-MODIFIED:20260114T135320Z
UID:10005528-1878829200-1878832800@standrewsc.org
SUMMARY:Holy Eucharist\, Rite II
DESCRIPTION:Casual worship service with contemporary praise music\, led by our worship band.
URL:https://standrewsc.org/event/holy-eucharist-rite-ii/2029-07-15/
LOCATION:St. Andrew’s Episcopal Church\, 208 West Foster Avenue\, State College\, PA\, 16801\, United States
CATEGORIES:Church
GEO:40.7911417;-77.8601015
X-APPLE-STRUCTURED-LOCATION;VALUE=URI;X-ADDRESS=St. Andrew’s Episcopal Church 208 West Foster Avenue State College PA 16801 United States;X-APPLE-RADIUS=500;X-TITLE=208 West Foster Avenue:geo:-77.8601015,40.7911417
END:VEVENT
BEGIN:VEVENT
DTSTART;TZID=America/New_York:20290722T080000
DTEND;TZID=America/New_York:20290722T080000
DTSTAMP:20260422T093044
CREATED:20260114T135025Z
LAST-MODIFIED:20260114T135348Z
UID:10005790-1879401600-1879401600@standrewsc.org
SUMMARY:Holy Eucharist\, Rite I
DESCRIPTION:Join us for our usual Rite I Spoken Eucharist\, followed by Continental Breakfast in Room 325.
URL:https://standrewsc.org/event/holy-eucharist-rite-i/2029-07-22/
CATEGORIES:Church
END:VEVENT
BEGIN:VEVENT
DTSTART;TZID=America/New_York:20290722T100000
DTEND;TZID=America/New_York:20290722T100000
DTSTAMP:20260422T093044
CREATED:20260114T135244Z
LAST-MODIFIED:20260114T135258Z
UID:10006051-1879408800-1879408800@standrewsc.org
SUMMARY:Holy Eucharist\, Rite II\, In-person and on Facebook Live
DESCRIPTION:Join us either in-person or on Facebook Live for our principal weekly worship service.
URL:https://standrewsc.org/event/holy-eucharist-rite-ii-in-person-and-on-facebook-live/2029-07-22/
LOCATION:St. Andrew’s Episcopal Church\, 208 West Foster Avenue\, State College\, PA\, 16801\, United States
CATEGORIES:Church
GEO:40.7911417;-77.8601015
X-APPLE-STRUCTURED-LOCATION;VALUE=URI;X-ADDRESS=St. Andrew’s Episcopal Church 208 West Foster Avenue State College PA 16801 United States;X-APPLE-RADIUS=500;X-TITLE=208 West Foster Avenue:geo:-77.8601015,40.7911417
END:VEVENT
BEGIN:VEVENT
DTSTART;TZID=America/New_York:20290722T170000
DTEND;TZID=America/New_York:20290722T180000
DTSTAMP:20260422T093044
CREATED:20260114T134806Z
LAST-MODIFIED:20260114T135320Z
UID:10005529-1879434000-1879437600@standrewsc.org
SUMMARY:Holy Eucharist\, Rite II
DESCRIPTION:Casual worship service with contemporary praise music\, led by our worship band.
URL:https://standrewsc.org/event/holy-eucharist-rite-ii/2029-07-22/
LOCATION:St. Andrew’s Episcopal Church\, 208 West Foster Avenue\, State College\, PA\, 16801\, United States
CATEGORIES:Church
GEO:40.7911417;-77.8601015
X-APPLE-STRUCTURED-LOCATION;VALUE=URI;X-ADDRESS=St. Andrew’s Episcopal Church 208 West Foster Avenue State College PA 16801 United States;X-APPLE-RADIUS=500;X-TITLE=208 West Foster Avenue:geo:-77.8601015,40.7911417
END:VEVENT
BEGIN:VEVENT
DTSTART;TZID=America/New_York:20290729T080000
DTEND;TZID=America/New_York:20290729T080000
DTSTAMP:20260422T093044
CREATED:20260114T135025Z
LAST-MODIFIED:20260114T135348Z
UID:10005791-1880006400-1880006400@standrewsc.org
SUMMARY:Holy Eucharist\, Rite I
DESCRIPTION:Join us for our usual Rite I Spoken Eucharist\, followed by Continental Breakfast in Room 325.
URL:https://standrewsc.org/event/holy-eucharist-rite-i/2029-07-29/
CATEGORIES:Church
END:VEVENT
BEGIN:VEVENT
DTSTART;TZID=America/New_York:20290729T100000
DTEND;TZID=America/New_York:20290729T100000
DTSTAMP:20260422T093044
CREATED:20260114T135244Z
LAST-MODIFIED:20260114T135258Z
UID:10006052-1880013600-1880013600@standrewsc.org
SUMMARY:Holy Eucharist\, Rite II\, In-person and on Facebook Live
DESCRIPTION:Join us either in-person or on Facebook Live for our principal weekly worship service.
URL:https://standrewsc.org/event/holy-eucharist-rite-ii-in-person-and-on-facebook-live/2029-07-29/
LOCATION:St. Andrew’s Episcopal Church\, 208 West Foster Avenue\, State College\, PA\, 16801\, United States
CATEGORIES:Church
GEO:40.7911417;-77.8601015
X-APPLE-STRUCTURED-LOCATION;VALUE=URI;X-ADDRESS=St. Andrew’s Episcopal Church 208 West Foster Avenue State College PA 16801 United States;X-APPLE-RADIUS=500;X-TITLE=208 West Foster Avenue:geo:-77.8601015,40.7911417
END:VEVENT
BEGIN:VEVENT
DTSTART;TZID=America/New_York:20290729T170000
DTEND;TZID=America/New_York:20290729T180000
DTSTAMP:20260422T093044
CREATED:20260114T134806Z
LAST-MODIFIED:20260114T135320Z
UID:10005530-1880038800-1880042400@standrewsc.org
SUMMARY:Holy Eucharist\, Rite II
DESCRIPTION:Casual worship service with contemporary praise music\, led by our worship band.
URL:https://standrewsc.org/event/holy-eucharist-rite-ii/2029-07-29/
LOCATION:St. Andrew’s Episcopal Church\, 208 West Foster Avenue\, State College\, PA\, 16801\, United States
CATEGORIES:Church
GEO:40.7911417;-77.8601015
X-APPLE-STRUCTURED-LOCATION;VALUE=URI;X-ADDRESS=St. Andrew’s Episcopal Church 208 West Foster Avenue State College PA 16801 United States;X-APPLE-RADIUS=500;X-TITLE=208 West Foster Avenue:geo:-77.8601015,40.7911417
END:VEVENT
BEGIN:VEVENT
DTSTART;TZID=America/New_York:20290805T080000
DTEND;TZID=America/New_York:20290805T080000
DTSTAMP:20260422T093044
CREATED:20260114T135025Z
LAST-MODIFIED:20260114T135348Z
UID:10005792-1880611200-1880611200@standrewsc.org
SUMMARY:Holy Eucharist\, Rite I
DESCRIPTION:Join us for our usual Rite I Spoken Eucharist\, followed by Continental Breakfast in Room 325.
URL:https://standrewsc.org/event/holy-eucharist-rite-i/2029-08-05/
CATEGORIES:Church
END:VEVENT
BEGIN:VEVENT
DTSTART;TZID=America/New_York:20290805T100000
DTEND;TZID=America/New_York:20290805T100000
DTSTAMP:20260422T093044
CREATED:20260114T135244Z
LAST-MODIFIED:20260114T135258Z
UID:10006053-1880618400-1880618400@standrewsc.org
SUMMARY:Holy Eucharist\, Rite II\, In-person and on Facebook Live
DESCRIPTION:Join us either in-person or on Facebook Live for our principal weekly worship service.
URL:https://standrewsc.org/event/holy-eucharist-rite-ii-in-person-and-on-facebook-live/2029-08-05/
LOCATION:St. Andrew’s Episcopal Church\, 208 West Foster Avenue\, State College\, PA\, 16801\, United States
CATEGORIES:Church
GEO:40.7911417;-77.8601015
X-APPLE-STRUCTURED-LOCATION;VALUE=URI;X-ADDRESS=St. Andrew’s Episcopal Church 208 West Foster Avenue State College PA 16801 United States;X-APPLE-RADIUS=500;X-TITLE=208 West Foster Avenue:geo:-77.8601015,40.7911417
END:VEVENT
BEGIN:VEVENT
DTSTART;TZID=America/New_York:20290805T170000
DTEND;TZID=America/New_York:20290805T180000
DTSTAMP:20260422T093044
CREATED:20260114T134806Z
LAST-MODIFIED:20260114T135320Z
UID:10005531-1880643600-1880647200@standrewsc.org
SUMMARY:Holy Eucharist\, Rite II
DESCRIPTION:Casual worship service with contemporary praise music\, led by our worship band.
URL:https://standrewsc.org/event/holy-eucharist-rite-ii/2029-08-05/
LOCATION:St. Andrew’s Episcopal Church\, 208 West Foster Avenue\, State College\, PA\, 16801\, United States
CATEGORIES:Church
GEO:40.7911417;-77.8601015
X-APPLE-STRUCTURED-LOCATION;VALUE=URI;X-ADDRESS=St. Andrew’s Episcopal Church 208 West Foster Avenue State College PA 16801 United States;X-APPLE-RADIUS=500;X-TITLE=208 West Foster Avenue:geo:-77.8601015,40.7911417
END:VEVENT
BEGIN:VEVENT
DTSTART;TZID=America/New_York:20290812T080000
DTEND;TZID=America/New_York:20290812T080000
DTSTAMP:20260422T093044
CREATED:20260114T135025Z
LAST-MODIFIED:20260114T135348Z
UID:10005793-1881216000-1881216000@standrewsc.org
SUMMARY:Holy Eucharist\, Rite I
DESCRIPTION:Join us for our usual Rite I Spoken Eucharist\, followed by Continental Breakfast in Room 325.
URL:https://standrewsc.org/event/holy-eucharist-rite-i/2029-08-12/
CATEGORIES:Church
END:VEVENT
BEGIN:VEVENT
DTSTART;TZID=America/New_York:20290812T100000
DTEND;TZID=America/New_York:20290812T100000
DTSTAMP:20260422T093044
CREATED:20260114T135244Z
LAST-MODIFIED:20260114T135258Z
UID:10006054-1881223200-1881223200@standrewsc.org
SUMMARY:Holy Eucharist\, Rite II\, In-person and on Facebook Live
DESCRIPTION:Join us either in-person or on Facebook Live for our principal weekly worship service.
URL:https://standrewsc.org/event/holy-eucharist-rite-ii-in-person-and-on-facebook-live/2029-08-12/
LOCATION:St. Andrew’s Episcopal Church\, 208 West Foster Avenue\, State College\, PA\, 16801\, United States
CATEGORIES:Church
GEO:40.7911417;-77.8601015
X-APPLE-STRUCTURED-LOCATION;VALUE=URI;X-ADDRESS=St. Andrew’s Episcopal Church 208 West Foster Avenue State College PA 16801 United States;X-APPLE-RADIUS=500;X-TITLE=208 West Foster Avenue:geo:-77.8601015,40.7911417
END:VEVENT
BEGIN:VEVENT
DTSTART;TZID=America/New_York:20290812T170000
DTEND;TZID=America/New_York:20290812T180000
DTSTAMP:20260422T093044
CREATED:20260114T134806Z
LAST-MODIFIED:20260114T135320Z
UID:10005532-1881248400-1881252000@standrewsc.org
SUMMARY:Holy Eucharist\, Rite II
DESCRIPTION:Casual worship service with contemporary praise music\, led by our worship band.
URL:https://standrewsc.org/event/holy-eucharist-rite-ii/2029-08-12/
LOCATION:St. Andrew’s Episcopal Church\, 208 West Foster Avenue\, State College\, PA\, 16801\, United States
CATEGORIES:Church
GEO:40.7911417;-77.8601015
X-APPLE-STRUCTURED-LOCATION;VALUE=URI;X-ADDRESS=St. Andrew’s Episcopal Church 208 West Foster Avenue State College PA 16801 United States;X-APPLE-RADIUS=500;X-TITLE=208 West Foster Avenue:geo:-77.8601015,40.7911417
END:VEVENT
BEGIN:VEVENT
DTSTART;TZID=America/New_York:20290819T080000
DTEND;TZID=America/New_York:20290819T080000
DTSTAMP:20260422T093044
CREATED:20260114T135025Z
LAST-MODIFIED:20260114T135348Z
UID:10005794-1881820800-1881820800@standrewsc.org
SUMMARY:Holy Eucharist\, Rite I
DESCRIPTION:Join us for our usual Rite I Spoken Eucharist\, followed by Continental Breakfast in Room 325.
URL:https://standrewsc.org/event/holy-eucharist-rite-i/2029-08-19/
CATEGORIES:Church
END:VEVENT
BEGIN:VEVENT
DTSTART;TZID=America/New_York:20290819T100000
DTEND;TZID=America/New_York:20290819T100000
DTSTAMP:20260422T093044
CREATED:20260114T135244Z
LAST-MODIFIED:20260114T135258Z
UID:10006055-1881828000-1881828000@standrewsc.org
SUMMARY:Holy Eucharist\, Rite II\, In-person and on Facebook Live
DESCRIPTION:Join us either in-person or on Facebook Live for our principal weekly worship service.
URL:https://standrewsc.org/event/holy-eucharist-rite-ii-in-person-and-on-facebook-live/2029-08-19/
LOCATION:St. Andrew’s Episcopal Church\, 208 West Foster Avenue\, State College\, PA\, 16801\, United States
CATEGORIES:Church
GEO:40.7911417;-77.8601015
X-APPLE-STRUCTURED-LOCATION;VALUE=URI;X-ADDRESS=St. Andrew’s Episcopal Church 208 West Foster Avenue State College PA 16801 United States;X-APPLE-RADIUS=500;X-TITLE=208 West Foster Avenue:geo:-77.8601015,40.7911417
END:VEVENT
BEGIN:VEVENT
DTSTART;TZID=America/New_York:20290819T170000
DTEND;TZID=America/New_York:20290819T180000
DTSTAMP:20260422T093044
CREATED:20260114T134806Z
LAST-MODIFIED:20260114T135320Z
UID:10005533-1881853200-1881856800@standrewsc.org
SUMMARY:Holy Eucharist\, Rite II
DESCRIPTION:Casual worship service with contemporary praise music\, led by our worship band.
URL:https://standrewsc.org/event/holy-eucharist-rite-ii/2029-08-19/
LOCATION:St. Andrew’s Episcopal Church\, 208 West Foster Avenue\, State College\, PA\, 16801\, United States
CATEGORIES:Church
GEO:40.7911417;-77.8601015
X-APPLE-STRUCTURED-LOCATION;VALUE=URI;X-ADDRESS=St. Andrew’s Episcopal Church 208 West Foster Avenue State College PA 16801 United States;X-APPLE-RADIUS=500;X-TITLE=208 West Foster Avenue:geo:-77.8601015,40.7911417
END:VEVENT
BEGIN:VEVENT
DTSTART;TZID=America/New_York:20290826T080000
DTEND;TZID=America/New_York:20290826T080000
DTSTAMP:20260422T093044
CREATED:20260114T135025Z
LAST-MODIFIED:20260114T135348Z
UID:10005795-1882425600-1882425600@standrewsc.org
SUMMARY:Holy Eucharist\, Rite I
DESCRIPTION:Join us for our usual Rite I Spoken Eucharist\, followed by Continental Breakfast in Room 325.
URL:https://standrewsc.org/event/holy-eucharist-rite-i/2029-08-26/
CATEGORIES:Church
END:VEVENT
BEGIN:VEVENT
DTSTART;TZID=America/New_York:20290826T100000
DTEND;TZID=America/New_York:20290826T100000
DTSTAMP:20260422T093044
CREATED:20260114T135244Z
LAST-MODIFIED:20260114T135258Z
UID:10006056-1882432800-1882432800@standrewsc.org
SUMMARY:Holy Eucharist\, Rite II\, In-person and on Facebook Live
DESCRIPTION:Join us either in-person or on Facebook Live for our principal weekly worship service.
URL:https://standrewsc.org/event/holy-eucharist-rite-ii-in-person-and-on-facebook-live/2029-08-26/
LOCATION:St. Andrew’s Episcopal Church\, 208 West Foster Avenue\, State College\, PA\, 16801\, United States
CATEGORIES:Church
GEO:40.7911417;-77.8601015
X-APPLE-STRUCTURED-LOCATION;VALUE=URI;X-ADDRESS=St. Andrew’s Episcopal Church 208 West Foster Avenue State College PA 16801 United States;X-APPLE-RADIUS=500;X-TITLE=208 West Foster Avenue:geo:-77.8601015,40.7911417
END:VEVENT
BEGIN:VEVENT
DTSTART;TZID=America/New_York:20290826T170000
DTEND;TZID=America/New_York:20290826T180000
DTSTAMP:20260422T093044
CREATED:20260114T134806Z
LAST-MODIFIED:20260114T135320Z
UID:10005534-1882458000-1882461600@standrewsc.org
SUMMARY:Holy Eucharist\, Rite II
DESCRIPTION:Casual worship service with contemporary praise music\, led by our worship band.
URL:https://standrewsc.org/event/holy-eucharist-rite-ii/2029-08-26/
LOCATION:St. Andrew’s Episcopal Church\, 208 West Foster Avenue\, State College\, PA\, 16801\, United States
CATEGORIES:Church
GEO:40.7911417;-77.8601015
X-APPLE-STRUCTURED-LOCATION;VALUE=URI;X-ADDRESS=St. Andrew’s Episcopal Church 208 West Foster Avenue State College PA 16801 United States;X-APPLE-RADIUS=500;X-TITLE=208 West Foster Avenue:geo:-77.8601015,40.7911417
END:VEVENT
BEGIN:VEVENT
DTSTART;TZID=America/New_York:20290902T080000
DTEND;TZID=America/New_York:20290902T080000
DTSTAMP:20260422T093044
CREATED:20260114T135025Z
LAST-MODIFIED:20260114T135348Z
UID:10005796-1883030400-1883030400@standrewsc.org
SUMMARY:Holy Eucharist\, Rite I
DESCRIPTION:Join us for our usual Rite I Spoken Eucharist\, followed by Continental Breakfast in Room 325.
URL:https://standrewsc.org/event/holy-eucharist-rite-i/2029-09-02/
CATEGORIES:Church
END:VEVENT
BEGIN:VEVENT
DTSTART;TZID=America/New_York:20290902T100000
DTEND;TZID=America/New_York:20290902T100000
DTSTAMP:20260422T093044
CREATED:20260114T135244Z
LAST-MODIFIED:20260114T135258Z
UID:10006057-1883037600-1883037600@standrewsc.org
SUMMARY:Holy Eucharist\, Rite II\, In-person and on Facebook Live
DESCRIPTION:Join us either in-person or on Facebook Live for our principal weekly worship service.
URL:https://standrewsc.org/event/holy-eucharist-rite-ii-in-person-and-on-facebook-live/2029-09-02/
LOCATION:St. Andrew’s Episcopal Church\, 208 West Foster Avenue\, State College\, PA\, 16801\, United States
CATEGORIES:Church
GEO:40.7911417;-77.8601015
X-APPLE-STRUCTURED-LOCATION;VALUE=URI;X-ADDRESS=St. Andrew’s Episcopal Church 208 West Foster Avenue State College PA 16801 United States;X-APPLE-RADIUS=500;X-TITLE=208 West Foster Avenue:geo:-77.8601015,40.7911417
END:VEVENT
BEGIN:VEVENT
DTSTART;TZID=America/New_York:20290902T170000
DTEND;TZID=America/New_York:20290902T180000
DTSTAMP:20260422T093044
CREATED:20260114T134806Z
LAST-MODIFIED:20260114T135320Z
UID:10005535-1883062800-1883066400@standrewsc.org
SUMMARY:Holy Eucharist\, Rite II
DESCRIPTION:Casual worship service with contemporary praise music\, led by our worship band.
URL:https://standrewsc.org/event/holy-eucharist-rite-ii/2029-09-02/
LOCATION:St. Andrew’s Episcopal Church\, 208 West Foster Avenue\, State College\, PA\, 16801\, United States
CATEGORIES:Church
GEO:40.7911417;-77.8601015
X-APPLE-STRUCTURED-LOCATION;VALUE=URI;X-ADDRESS=St. Andrew’s Episcopal Church 208 West Foster Avenue State College PA 16801 United States;X-APPLE-RADIUS=500;X-TITLE=208 West Foster Avenue:geo:-77.8601015,40.7911417
END:VEVENT
BEGIN:VEVENT
DTSTART;TZID=America/New_York:20290909T080000
DTEND;TZID=America/New_York:20290909T080000
DTSTAMP:20260422T093044
CREATED:20260114T135025Z
LAST-MODIFIED:20260114T135348Z
UID:10005797-1883635200-1883635200@standrewsc.org
SUMMARY:Holy Eucharist\, Rite I
DESCRIPTION:Join us for our usual Rite I Spoken Eucharist\, followed by Continental Breakfast in Room 325.
URL:https://standrewsc.org/event/holy-eucharist-rite-i/2029-09-09/
CATEGORIES:Church
END:VEVENT
BEGIN:VEVENT
DTSTART;TZID=America/New_York:20290909T100000
DTEND;TZID=America/New_York:20290909T100000
DTSTAMP:20260422T093044
CREATED:20260114T135244Z
LAST-MODIFIED:20260114T135258Z
UID:10006058-1883642400-1883642400@standrewsc.org
SUMMARY:Holy Eucharist\, Rite II\, In-person and on Facebook Live
DESCRIPTION:Join us either in-person or on Facebook Live for our principal weekly worship service.
URL:https://standrewsc.org/event/holy-eucharist-rite-ii-in-person-and-on-facebook-live/2029-09-09/
LOCATION:St. Andrew’s Episcopal Church\, 208 West Foster Avenue\, State College\, PA\, 16801\, United States
CATEGORIES:Church
GEO:40.7911417;-77.8601015
X-APPLE-STRUCTURED-LOCATION;VALUE=URI;X-ADDRESS=St. Andrew’s Episcopal Church 208 West Foster Avenue State College PA 16801 United States;X-APPLE-RADIUS=500;X-TITLE=208 West Foster Avenue:geo:-77.8601015,40.7911417
END:VEVENT
END:VCALENDAR