BEGIN:VCALENDAR
VERSION:2.0
PRODID:-//Saint Andrews Episcopal Church - State College, PA - ECPv6.15.14//NONSGML v1.0//EN
CALSCALE:GREGORIAN
METHOD:PUBLISH
X-WR-CALNAME:Saint Andrews Episcopal Church - State College, PA
X-ORIGINAL-URL:https://standrewsc.org
X-WR-CALDESC:Events for Saint Andrews Episcopal Church - State College, PA
REFRESH-INTERVAL;VALUE=DURATION:PT1H
X-Robots-Tag:noindex
X-PUBLISHED-TTL:PT1H
BEGIN:VTIMEZONE
TZID:America/New_York
BEGIN:DAYLIGHT
TZOFFSETFROM:-0500
TZOFFSETTO:-0400
TZNAME:EDT
DTSTART:20280312T070000
END:DAYLIGHT
BEGIN:STANDARD
TZOFFSETFROM:-0400
TZOFFSETTO:-0500
TZNAME:EST
DTSTART:20281105T060000
END:STANDARD
BEGIN:DAYLIGHT
TZOFFSETFROM:-0500
TZOFFSETTO:-0400
TZNAME:EDT
DTSTART:20290311T070000
END:DAYLIGHT
BEGIN:STANDARD
TZOFFSETFROM:-0400
TZOFFSETTO:-0500
TZNAME:EST
DTSTART:20291104T060000
END:STANDARD
BEGIN:DAYLIGHT
TZOFFSETFROM:-0500
TZOFFSETTO:-0400
TZNAME:EDT
DTSTART:20300310T070000
END:DAYLIGHT
BEGIN:STANDARD
TZOFFSETFROM:-0400
TZOFFSETTO:-0500
TZNAME:EST
DTSTART:20301103T060000
END:STANDARD
END:VTIMEZONE
BEGIN:VEVENT
DTSTART;TZID=America/New_York:20290520T080000
DTEND;TZID=America/New_York:20290520T080000
DTSTAMP:20260420T053429
CREATED:20260114T135025Z
LAST-MODIFIED:20260114T135348Z
UID:10005781-1873958400-1873958400@standrewsc.org
SUMMARY:Holy Eucharist\, Rite I
DESCRIPTION:Join us for our usual Rite I Spoken Eucharist\, followed by Continental Breakfast in Room 325.
URL:https://standrewsc.org/event/holy-eucharist-rite-i/2029-05-20/
CATEGORIES:Church
END:VEVENT
BEGIN:VEVENT
DTSTART;TZID=America/New_York:20290520T100000
DTEND;TZID=America/New_York:20290520T100000
DTSTAMP:20260420T053429
CREATED:20260114T135244Z
LAST-MODIFIED:20260114T135258Z
UID:10006042-1873965600-1873965600@standrewsc.org
SUMMARY:Holy Eucharist\, Rite II\, In-person and on Facebook Live
DESCRIPTION:Join us either in-person or on Facebook Live for our principal weekly worship service.
URL:https://standrewsc.org/event/holy-eucharist-rite-ii-in-person-and-on-facebook-live/2029-05-20/
LOCATION:St. Andrew’s Episcopal Church\, 208 West Foster Avenue\, State College\, PA\, 16801\, United States
CATEGORIES:Church
GEO:40.7911417;-77.8601015
X-APPLE-STRUCTURED-LOCATION;VALUE=URI;X-ADDRESS=St. Andrew’s Episcopal Church 208 West Foster Avenue State College PA 16801 United States;X-APPLE-RADIUS=500;X-TITLE=208 West Foster Avenue:geo:-77.8601015,40.7911417
END:VEVENT
BEGIN:VEVENT
DTSTART;TZID=America/New_York:20290520T170000
DTEND;TZID=America/New_York:20290520T180000
DTSTAMP:20260420T053429
CREATED:20260114T134806Z
LAST-MODIFIED:20260114T135320Z
UID:10005520-1873990800-1873994400@standrewsc.org
SUMMARY:Holy Eucharist\, Rite II
DESCRIPTION:Casual worship service with contemporary praise music\, led by our worship band.
URL:https://standrewsc.org/event/holy-eucharist-rite-ii/2029-05-20/
LOCATION:St. Andrew’s Episcopal Church\, 208 West Foster Avenue\, State College\, PA\, 16801\, United States
CATEGORIES:Church
GEO:40.7911417;-77.8601015
X-APPLE-STRUCTURED-LOCATION;VALUE=URI;X-ADDRESS=St. Andrew’s Episcopal Church 208 West Foster Avenue State College PA 16801 United States;X-APPLE-RADIUS=500;X-TITLE=208 West Foster Avenue:geo:-77.8601015,40.7911417
END:VEVENT
BEGIN:VEVENT
DTSTART;TZID=America/New_York:20290527T080000
DTEND;TZID=America/New_York:20290527T080000
DTSTAMP:20260420T053429
CREATED:20260114T135025Z
LAST-MODIFIED:20260114T135348Z
UID:10005782-1874563200-1874563200@standrewsc.org
SUMMARY:Holy Eucharist\, Rite I
DESCRIPTION:Join us for our usual Rite I Spoken Eucharist\, followed by Continental Breakfast in Room 325.
URL:https://standrewsc.org/event/holy-eucharist-rite-i/2029-05-27/
CATEGORIES:Church
END:VEVENT
BEGIN:VEVENT
DTSTART;TZID=America/New_York:20290527T100000
DTEND;TZID=America/New_York:20290527T100000
DTSTAMP:20260420T053429
CREATED:20260114T135244Z
LAST-MODIFIED:20260114T135258Z
UID:10006043-1874570400-1874570400@standrewsc.org
SUMMARY:Holy Eucharist\, Rite II\, In-person and on Facebook Live
DESCRIPTION:Join us either in-person or on Facebook Live for our principal weekly worship service.
URL:https://standrewsc.org/event/holy-eucharist-rite-ii-in-person-and-on-facebook-live/2029-05-27/
LOCATION:St. Andrew’s Episcopal Church\, 208 West Foster Avenue\, State College\, PA\, 16801\, United States
CATEGORIES:Church
GEO:40.7911417;-77.8601015
X-APPLE-STRUCTURED-LOCATION;VALUE=URI;X-ADDRESS=St. Andrew’s Episcopal Church 208 West Foster Avenue State College PA 16801 United States;X-APPLE-RADIUS=500;X-TITLE=208 West Foster Avenue:geo:-77.8601015,40.7911417
END:VEVENT
BEGIN:VEVENT
DTSTART;TZID=America/New_York:20290527T170000
DTEND;TZID=America/New_York:20290527T180000
DTSTAMP:20260420T053429
CREATED:20260114T134806Z
LAST-MODIFIED:20260114T135320Z
UID:10005521-1874595600-1874599200@standrewsc.org
SUMMARY:Holy Eucharist\, Rite II
DESCRIPTION:Casual worship service with contemporary praise music\, led by our worship band.
URL:https://standrewsc.org/event/holy-eucharist-rite-ii/2029-05-27/
LOCATION:St. Andrew’s Episcopal Church\, 208 West Foster Avenue\, State College\, PA\, 16801\, United States
CATEGORIES:Church
GEO:40.7911417;-77.8601015
X-APPLE-STRUCTURED-LOCATION;VALUE=URI;X-ADDRESS=St. Andrew’s Episcopal Church 208 West Foster Avenue State College PA 16801 United States;X-APPLE-RADIUS=500;X-TITLE=208 West Foster Avenue:geo:-77.8601015,40.7911417
END:VEVENT
BEGIN:VEVENT
DTSTART;TZID=America/New_York:20290603T080000
DTEND;TZID=America/New_York:20290603T080000
DTSTAMP:20260420T053429
CREATED:20260114T135025Z
LAST-MODIFIED:20260114T135348Z
UID:10005783-1875168000-1875168000@standrewsc.org
SUMMARY:Holy Eucharist\, Rite I
DESCRIPTION:Join us for our usual Rite I Spoken Eucharist\, followed by Continental Breakfast in Room 325.
URL:https://standrewsc.org/event/holy-eucharist-rite-i/2029-06-03/
CATEGORIES:Church
END:VEVENT
BEGIN:VEVENT
DTSTART;TZID=America/New_York:20290603T100000
DTEND;TZID=America/New_York:20290603T100000
DTSTAMP:20260420T053429
CREATED:20260114T135244Z
LAST-MODIFIED:20260114T135258Z
UID:10006044-1875175200-1875175200@standrewsc.org
SUMMARY:Holy Eucharist\, Rite II\, In-person and on Facebook Live
DESCRIPTION:Join us either in-person or on Facebook Live for our principal weekly worship service.
URL:https://standrewsc.org/event/holy-eucharist-rite-ii-in-person-and-on-facebook-live/2029-06-03/
LOCATION:St. Andrew’s Episcopal Church\, 208 West Foster Avenue\, State College\, PA\, 16801\, United States
CATEGORIES:Church
GEO:40.7911417;-77.8601015
X-APPLE-STRUCTURED-LOCATION;VALUE=URI;X-ADDRESS=St. Andrew’s Episcopal Church 208 West Foster Avenue State College PA 16801 United States;X-APPLE-RADIUS=500;X-TITLE=208 West Foster Avenue:geo:-77.8601015,40.7911417
END:VEVENT
BEGIN:VEVENT
DTSTART;TZID=America/New_York:20290603T170000
DTEND;TZID=America/New_York:20290603T180000
DTSTAMP:20260420T053429
CREATED:20260114T134806Z
LAST-MODIFIED:20260114T135320Z
UID:10005522-1875200400-1875204000@standrewsc.org
SUMMARY:Holy Eucharist\, Rite II
DESCRIPTION:Casual worship service with contemporary praise music\, led by our worship band.
URL:https://standrewsc.org/event/holy-eucharist-rite-ii/2029-06-03/
LOCATION:St. Andrew’s Episcopal Church\, 208 West Foster Avenue\, State College\, PA\, 16801\, United States
CATEGORIES:Church
GEO:40.7911417;-77.8601015
X-APPLE-STRUCTURED-LOCATION;VALUE=URI;X-ADDRESS=St. Andrew’s Episcopal Church 208 West Foster Avenue State College PA 16801 United States;X-APPLE-RADIUS=500;X-TITLE=208 West Foster Avenue:geo:-77.8601015,40.7911417
END:VEVENT
BEGIN:VEVENT
DTSTART;TZID=America/New_York:20290610T080000
DTEND;TZID=America/New_York:20290610T080000
DTSTAMP:20260420T053429
CREATED:20260114T135025Z
LAST-MODIFIED:20260114T135348Z
UID:10005784-1875772800-1875772800@standrewsc.org
SUMMARY:Holy Eucharist\, Rite I
DESCRIPTION:Join us for our usual Rite I Spoken Eucharist\, followed by Continental Breakfast in Room 325.
URL:https://standrewsc.org/event/holy-eucharist-rite-i/2029-06-10/
CATEGORIES:Church
END:VEVENT
BEGIN:VEVENT
DTSTART;TZID=America/New_York:20290610T100000
DTEND;TZID=America/New_York:20290610T100000
DTSTAMP:20260420T053429
CREATED:20260114T135244Z
LAST-MODIFIED:20260114T135258Z
UID:10006045-1875780000-1875780000@standrewsc.org
SUMMARY:Holy Eucharist\, Rite II\, In-person and on Facebook Live
DESCRIPTION:Join us either in-person or on Facebook Live for our principal weekly worship service.
URL:https://standrewsc.org/event/holy-eucharist-rite-ii-in-person-and-on-facebook-live/2029-06-10/
LOCATION:St. Andrew’s Episcopal Church\, 208 West Foster Avenue\, State College\, PA\, 16801\, United States
CATEGORIES:Church
GEO:40.7911417;-77.8601015
X-APPLE-STRUCTURED-LOCATION;VALUE=URI;X-ADDRESS=St. Andrew’s Episcopal Church 208 West Foster Avenue State College PA 16801 United States;X-APPLE-RADIUS=500;X-TITLE=208 West Foster Avenue:geo:-77.8601015,40.7911417
END:VEVENT
BEGIN:VEVENT
DTSTART;TZID=America/New_York:20290610T170000
DTEND;TZID=America/New_York:20290610T180000
DTSTAMP:20260420T053429
CREATED:20260114T134806Z
LAST-MODIFIED:20260114T135320Z
UID:10005523-1875805200-1875808800@standrewsc.org
SUMMARY:Holy Eucharist\, Rite II
DESCRIPTION:Casual worship service with contemporary praise music\, led by our worship band.
URL:https://standrewsc.org/event/holy-eucharist-rite-ii/2029-06-10/
LOCATION:St. Andrew’s Episcopal Church\, 208 West Foster Avenue\, State College\, PA\, 16801\, United States
CATEGORIES:Church
GEO:40.7911417;-77.8601015
X-APPLE-STRUCTURED-LOCATION;VALUE=URI;X-ADDRESS=St. Andrew’s Episcopal Church 208 West Foster Avenue State College PA 16801 United States;X-APPLE-RADIUS=500;X-TITLE=208 West Foster Avenue:geo:-77.8601015,40.7911417
END:VEVENT
BEGIN:VEVENT
DTSTART;TZID=America/New_York:20290617T080000
DTEND;TZID=America/New_York:20290617T080000
DTSTAMP:20260420T053429
CREATED:20260114T135025Z
LAST-MODIFIED:20260114T135348Z
UID:10005785-1876377600-1876377600@standrewsc.org
SUMMARY:Holy Eucharist\, Rite I
DESCRIPTION:Join us for our usual Rite I Spoken Eucharist\, followed by Continental Breakfast in Room 325.
URL:https://standrewsc.org/event/holy-eucharist-rite-i/2029-06-17/
CATEGORIES:Church
END:VEVENT
BEGIN:VEVENT
DTSTART;TZID=America/New_York:20290617T100000
DTEND;TZID=America/New_York:20290617T100000
DTSTAMP:20260420T053429
CREATED:20260114T135244Z
LAST-MODIFIED:20260114T135258Z
UID:10006046-1876384800-1876384800@standrewsc.org
SUMMARY:Holy Eucharist\, Rite II\, In-person and on Facebook Live
DESCRIPTION:Join us either in-person or on Facebook Live for our principal weekly worship service.
URL:https://standrewsc.org/event/holy-eucharist-rite-ii-in-person-and-on-facebook-live/2029-06-17/
LOCATION:St. Andrew’s Episcopal Church\, 208 West Foster Avenue\, State College\, PA\, 16801\, United States
CATEGORIES:Church
GEO:40.7911417;-77.8601015
X-APPLE-STRUCTURED-LOCATION;VALUE=URI;X-ADDRESS=St. Andrew’s Episcopal Church 208 West Foster Avenue State College PA 16801 United States;X-APPLE-RADIUS=500;X-TITLE=208 West Foster Avenue:geo:-77.8601015,40.7911417
END:VEVENT
BEGIN:VEVENT
DTSTART;TZID=America/New_York:20290617T170000
DTEND;TZID=America/New_York:20290617T180000
DTSTAMP:20260420T053429
CREATED:20260114T134806Z
LAST-MODIFIED:20260114T135320Z
UID:10005524-1876410000-1876413600@standrewsc.org
SUMMARY:Holy Eucharist\, Rite II
DESCRIPTION:Casual worship service with contemporary praise music\, led by our worship band.
URL:https://standrewsc.org/event/holy-eucharist-rite-ii/2029-06-17/
LOCATION:St. Andrew’s Episcopal Church\, 208 West Foster Avenue\, State College\, PA\, 16801\, United States
CATEGORIES:Church
GEO:40.7911417;-77.8601015
X-APPLE-STRUCTURED-LOCATION;VALUE=URI;X-ADDRESS=St. Andrew’s Episcopal Church 208 West Foster Avenue State College PA 16801 United States;X-APPLE-RADIUS=500;X-TITLE=208 West Foster Avenue:geo:-77.8601015,40.7911417
END:VEVENT
BEGIN:VEVENT
DTSTART;TZID=America/New_York:20290624T080000
DTEND;TZID=America/New_York:20290624T080000
DTSTAMP:20260420T053429
CREATED:20260114T135025Z
LAST-MODIFIED:20260114T135348Z
UID:10005786-1876982400-1876982400@standrewsc.org
SUMMARY:Holy Eucharist\, Rite I
DESCRIPTION:Join us for our usual Rite I Spoken Eucharist\, followed by Continental Breakfast in Room 325.
URL:https://standrewsc.org/event/holy-eucharist-rite-i/2029-06-24/
CATEGORIES:Church
END:VEVENT
BEGIN:VEVENT
DTSTART;TZID=America/New_York:20290624T100000
DTEND;TZID=America/New_York:20290624T100000
DTSTAMP:20260420T053429
CREATED:20260114T135244Z
LAST-MODIFIED:20260114T135258Z
UID:10006047-1876989600-1876989600@standrewsc.org
SUMMARY:Holy Eucharist\, Rite II\, In-person and on Facebook Live
DESCRIPTION:Join us either in-person or on Facebook Live for our principal weekly worship service.
URL:https://standrewsc.org/event/holy-eucharist-rite-ii-in-person-and-on-facebook-live/2029-06-24/
LOCATION:St. Andrew’s Episcopal Church\, 208 West Foster Avenue\, State College\, PA\, 16801\, United States
CATEGORIES:Church
GEO:40.7911417;-77.8601015
X-APPLE-STRUCTURED-LOCATION;VALUE=URI;X-ADDRESS=St. Andrew’s Episcopal Church 208 West Foster Avenue State College PA 16801 United States;X-APPLE-RADIUS=500;X-TITLE=208 West Foster Avenue:geo:-77.8601015,40.7911417
END:VEVENT
BEGIN:VEVENT
DTSTART;TZID=America/New_York:20290624T170000
DTEND;TZID=America/New_York:20290624T180000
DTSTAMP:20260420T053429
CREATED:20260114T134806Z
LAST-MODIFIED:20260114T135320Z
UID:10005525-1877014800-1877018400@standrewsc.org
SUMMARY:Holy Eucharist\, Rite II
DESCRIPTION:Casual worship service with contemporary praise music\, led by our worship band.
URL:https://standrewsc.org/event/holy-eucharist-rite-ii/2029-06-24/
LOCATION:St. Andrew’s Episcopal Church\, 208 West Foster Avenue\, State College\, PA\, 16801\, United States
CATEGORIES:Church
GEO:40.7911417;-77.8601015
X-APPLE-STRUCTURED-LOCATION;VALUE=URI;X-ADDRESS=St. Andrew’s Episcopal Church 208 West Foster Avenue State College PA 16801 United States;X-APPLE-RADIUS=500;X-TITLE=208 West Foster Avenue:geo:-77.8601015,40.7911417
END:VEVENT
BEGIN:VEVENT
DTSTART;TZID=America/New_York:20290701T080000
DTEND;TZID=America/New_York:20290701T080000
DTSTAMP:20260420T053429
CREATED:20260114T135025Z
LAST-MODIFIED:20260114T135348Z
UID:10005787-1877587200-1877587200@standrewsc.org
SUMMARY:Holy Eucharist\, Rite I
DESCRIPTION:Join us for our usual Rite I Spoken Eucharist\, followed by Continental Breakfast in Room 325.
URL:https://standrewsc.org/event/holy-eucharist-rite-i/2029-07-01/
CATEGORIES:Church
END:VEVENT
BEGIN:VEVENT
DTSTART;TZID=America/New_York:20290701T100000
DTEND;TZID=America/New_York:20290701T100000
DTSTAMP:20260420T053429
CREATED:20260114T135244Z
LAST-MODIFIED:20260114T135258Z
UID:10006048-1877594400-1877594400@standrewsc.org
SUMMARY:Holy Eucharist\, Rite II\, In-person and on Facebook Live
DESCRIPTION:Join us either in-person or on Facebook Live for our principal weekly worship service.
URL:https://standrewsc.org/event/holy-eucharist-rite-ii-in-person-and-on-facebook-live/2029-07-01/
LOCATION:St. Andrew’s Episcopal Church\, 208 West Foster Avenue\, State College\, PA\, 16801\, United States
CATEGORIES:Church
GEO:40.7911417;-77.8601015
X-APPLE-STRUCTURED-LOCATION;VALUE=URI;X-ADDRESS=St. Andrew’s Episcopal Church 208 West Foster Avenue State College PA 16801 United States;X-APPLE-RADIUS=500;X-TITLE=208 West Foster Avenue:geo:-77.8601015,40.7911417
END:VEVENT
BEGIN:VEVENT
DTSTART;TZID=America/New_York:20290701T170000
DTEND;TZID=America/New_York:20290701T180000
DTSTAMP:20260420T053429
CREATED:20260114T134806Z
LAST-MODIFIED:20260114T135320Z
UID:10005526-1877619600-1877623200@standrewsc.org
SUMMARY:Holy Eucharist\, Rite II
DESCRIPTION:Casual worship service with contemporary praise music\, led by our worship band.
URL:https://standrewsc.org/event/holy-eucharist-rite-ii/2029-07-01/
LOCATION:St. Andrew’s Episcopal Church\, 208 West Foster Avenue\, State College\, PA\, 16801\, United States
CATEGORIES:Church
GEO:40.7911417;-77.8601015
X-APPLE-STRUCTURED-LOCATION;VALUE=URI;X-ADDRESS=St. Andrew’s Episcopal Church 208 West Foster Avenue State College PA 16801 United States;X-APPLE-RADIUS=500;X-TITLE=208 West Foster Avenue:geo:-77.8601015,40.7911417
END:VEVENT
BEGIN:VEVENT
DTSTART;TZID=America/New_York:20290708T080000
DTEND;TZID=America/New_York:20290708T080000
DTSTAMP:20260420T053429
CREATED:20260114T135025Z
LAST-MODIFIED:20260114T135348Z
UID:10005788-1878192000-1878192000@standrewsc.org
SUMMARY:Holy Eucharist\, Rite I
DESCRIPTION:Join us for our usual Rite I Spoken Eucharist\, followed by Continental Breakfast in Room 325.
URL:https://standrewsc.org/event/holy-eucharist-rite-i/2029-07-08/
CATEGORIES:Church
END:VEVENT
BEGIN:VEVENT
DTSTART;TZID=America/New_York:20290708T100000
DTEND;TZID=America/New_York:20290708T100000
DTSTAMP:20260420T053429
CREATED:20260114T135244Z
LAST-MODIFIED:20260114T135258Z
UID:10006049-1878199200-1878199200@standrewsc.org
SUMMARY:Holy Eucharist\, Rite II\, In-person and on Facebook Live
DESCRIPTION:Join us either in-person or on Facebook Live for our principal weekly worship service.
URL:https://standrewsc.org/event/holy-eucharist-rite-ii-in-person-and-on-facebook-live/2029-07-08/
LOCATION:St. Andrew’s Episcopal Church\, 208 West Foster Avenue\, State College\, PA\, 16801\, United States
CATEGORIES:Church
GEO:40.7911417;-77.8601015
X-APPLE-STRUCTURED-LOCATION;VALUE=URI;X-ADDRESS=St. Andrew’s Episcopal Church 208 West Foster Avenue State College PA 16801 United States;X-APPLE-RADIUS=500;X-TITLE=208 West Foster Avenue:geo:-77.8601015,40.7911417
END:VEVENT
BEGIN:VEVENT
DTSTART;TZID=America/New_York:20290708T170000
DTEND;TZID=America/New_York:20290708T180000
DTSTAMP:20260420T053429
CREATED:20260114T134806Z
LAST-MODIFIED:20260114T135320Z
UID:10005527-1878224400-1878228000@standrewsc.org
SUMMARY:Holy Eucharist\, Rite II
DESCRIPTION:Casual worship service with contemporary praise music\, led by our worship band.
URL:https://standrewsc.org/event/holy-eucharist-rite-ii/2029-07-08/
LOCATION:St. Andrew’s Episcopal Church\, 208 West Foster Avenue\, State College\, PA\, 16801\, United States
CATEGORIES:Church
GEO:40.7911417;-77.8601015
X-APPLE-STRUCTURED-LOCATION;VALUE=URI;X-ADDRESS=St. Andrew’s Episcopal Church 208 West Foster Avenue State College PA 16801 United States;X-APPLE-RADIUS=500;X-TITLE=208 West Foster Avenue:geo:-77.8601015,40.7911417
END:VEVENT
BEGIN:VEVENT
DTSTART;TZID=America/New_York:20290715T080000
DTEND;TZID=America/New_York:20290715T080000
DTSTAMP:20260420T053429
CREATED:20260114T135025Z
LAST-MODIFIED:20260114T135348Z
UID:10005789-1878796800-1878796800@standrewsc.org
SUMMARY:Holy Eucharist\, Rite I
DESCRIPTION:Join us for our usual Rite I Spoken Eucharist\, followed by Continental Breakfast in Room 325.
URL:https://standrewsc.org/event/holy-eucharist-rite-i/2029-07-15/
CATEGORIES:Church
END:VEVENT
BEGIN:VEVENT
DTSTART;TZID=America/New_York:20290715T100000
DTEND;TZID=America/New_York:20290715T100000
DTSTAMP:20260420T053429
CREATED:20260114T135244Z
LAST-MODIFIED:20260114T135258Z
UID:10006050-1878804000-1878804000@standrewsc.org
SUMMARY:Holy Eucharist\, Rite II\, In-person and on Facebook Live
DESCRIPTION:Join us either in-person or on Facebook Live for our principal weekly worship service.
URL:https://standrewsc.org/event/holy-eucharist-rite-ii-in-person-and-on-facebook-live/2029-07-15/
LOCATION:St. Andrew’s Episcopal Church\, 208 West Foster Avenue\, State College\, PA\, 16801\, United States
CATEGORIES:Church
GEO:40.7911417;-77.8601015
X-APPLE-STRUCTURED-LOCATION;VALUE=URI;X-ADDRESS=St. Andrew’s Episcopal Church 208 West Foster Avenue State College PA 16801 United States;X-APPLE-RADIUS=500;X-TITLE=208 West Foster Avenue:geo:-77.8601015,40.7911417
END:VEVENT
BEGIN:VEVENT
DTSTART;TZID=America/New_York:20290715T170000
DTEND;TZID=America/New_York:20290715T180000
DTSTAMP:20260420T053429
CREATED:20260114T134806Z
LAST-MODIFIED:20260114T135320Z
UID:10005528-1878829200-1878832800@standrewsc.org
SUMMARY:Holy Eucharist\, Rite II
DESCRIPTION:Casual worship service with contemporary praise music\, led by our worship band.
URL:https://standrewsc.org/event/holy-eucharist-rite-ii/2029-07-15/
LOCATION:St. Andrew’s Episcopal Church\, 208 West Foster Avenue\, State College\, PA\, 16801\, United States
CATEGORIES:Church
GEO:40.7911417;-77.8601015
X-APPLE-STRUCTURED-LOCATION;VALUE=URI;X-ADDRESS=St. Andrew’s Episcopal Church 208 West Foster Avenue State College PA 16801 United States;X-APPLE-RADIUS=500;X-TITLE=208 West Foster Avenue:geo:-77.8601015,40.7911417
END:VEVENT
BEGIN:VEVENT
DTSTART;TZID=America/New_York:20290722T080000
DTEND;TZID=America/New_York:20290722T080000
DTSTAMP:20260420T053429
CREATED:20260114T135025Z
LAST-MODIFIED:20260114T135348Z
UID:10005790-1879401600-1879401600@standrewsc.org
SUMMARY:Holy Eucharist\, Rite I
DESCRIPTION:Join us for our usual Rite I Spoken Eucharist\, followed by Continental Breakfast in Room 325.
URL:https://standrewsc.org/event/holy-eucharist-rite-i/2029-07-22/
CATEGORIES:Church
END:VEVENT
BEGIN:VEVENT
DTSTART;TZID=America/New_York:20290722T100000
DTEND;TZID=America/New_York:20290722T100000
DTSTAMP:20260420T053429
CREATED:20260114T135244Z
LAST-MODIFIED:20260114T135258Z
UID:10006051-1879408800-1879408800@standrewsc.org
SUMMARY:Holy Eucharist\, Rite II\, In-person and on Facebook Live
DESCRIPTION:Join us either in-person or on Facebook Live for our principal weekly worship service.
URL:https://standrewsc.org/event/holy-eucharist-rite-ii-in-person-and-on-facebook-live/2029-07-22/
LOCATION:St. Andrew’s Episcopal Church\, 208 West Foster Avenue\, State College\, PA\, 16801\, United States
CATEGORIES:Church
GEO:40.7911417;-77.8601015
X-APPLE-STRUCTURED-LOCATION;VALUE=URI;X-ADDRESS=St. Andrew’s Episcopal Church 208 West Foster Avenue State College PA 16801 United States;X-APPLE-RADIUS=500;X-TITLE=208 West Foster Avenue:geo:-77.8601015,40.7911417
END:VEVENT
BEGIN:VEVENT
DTSTART;TZID=America/New_York:20290722T170000
DTEND;TZID=America/New_York:20290722T180000
DTSTAMP:20260420T053429
CREATED:20260114T134806Z
LAST-MODIFIED:20260114T135320Z
UID:10005529-1879434000-1879437600@standrewsc.org
SUMMARY:Holy Eucharist\, Rite II
DESCRIPTION:Casual worship service with contemporary praise music\, led by our worship band.
URL:https://standrewsc.org/event/holy-eucharist-rite-ii/2029-07-22/
LOCATION:St. Andrew’s Episcopal Church\, 208 West Foster Avenue\, State College\, PA\, 16801\, United States
CATEGORIES:Church
GEO:40.7911417;-77.8601015
X-APPLE-STRUCTURED-LOCATION;VALUE=URI;X-ADDRESS=St. Andrew’s Episcopal Church 208 West Foster Avenue State College PA 16801 United States;X-APPLE-RADIUS=500;X-TITLE=208 West Foster Avenue:geo:-77.8601015,40.7911417
END:VEVENT
END:VCALENDAR